BEGIN:VCALENDAR
VERSION:2.0
PRODID:-//wp-events-plugin.com//7.2.3.1//EN
TZID:America/Detroit
X-WR-TIMEZONE:America/Detroit
BEGIN:VEVENT
UID:35297@arabamerica.com
DTSTART;TZID=America/New_York:20251101T180000
DTEND;TZID=America/New_York:20251101T210000
DTSTAMP:20251022T005239Z
URL:https://www.arabamerica.com/events/eyewitness-gaza-a-doctors-story-and
 -quranic-tribute/
SUMMARY:Eyewitness Gaza: A Doctor’s Story and Quranic Tribute
DESCRIPTION:PISCATAWAY\, NJ\n\nFundraising Dinner for Gaza: @ MCMC (Muslim 
 Center of Middlesex County)\n\n&#x1f4c5\; Date: Saturday\, November 1\, 20
 25\n\n&#x1f555\; Time: 6:00PM-9:00PM\n\n&#x1f4cd\; Location: MCMC (Muslim 
 Center of Middlesex County\n\n1000 Hoes Ln. Piscataway\, NJ 08854\n\nJoin 
 us for a powerful evening of inspiration\, reflection\, and support for ou
 r brothers and sisters in need. This special fundraising dinner will featu
 re esteemed speakers sharing their firsthand experiences\, knowledge\, and
  heartfelt reminders:\n\n 	Dr. Zahed Rahman RN – Served in Gaza hospital
 s during this genocide\n 	Qari Sh. Nady Kishk – World-renowned Qur’an 
 reciter\n 	UHR Suleiman Alghanem – United Hands Relief President/CEO\n 	
 Br. Akhil Mohamed - Local Community Leader\n\n&#x1f37d\;&#xfe0f\; Full din
 ner will be served!&#x1f371\;\n\n&#x2728\; Be part of this impactful gathe
 ring — your presence and contributions will make a difference.\n\n&#x1f4
 49\; RSVP today to reserve your seat! Scan the QR code or register via Eve
 ntbrite.
ATTACH;FMTTYPE=image/jpeg:https://www.arabamerica.com/wp-content/uploads/2
 025/10/Screen-Shot-2025-10-21-at-8.52.01-PM.png
LOCATION:Muslim Center of Middlesex County (MCMC)\, 1000 Hoes Lane\, Piscat
 away\, New Jersey \, 08854\, United States
GEO:40.529595;-74.468536
X-APPLE-STRUCTURED-LOCATION;VALUE=URI;X-ADDRESS=1000 Hoes Lane\, Piscataway
 \, New Jersey \, 08854\, United States;X-APPLE-RADIUS=100;X-TITLE=Muslim C
 enter of Middlesex County (MCMC):geo:40.529595,-74.468536
END:VEVENT
BEGIN:VTIMEZONE
TZID:America/New_York
X-LIC-LOCATION:America/New_York
BEGIN:DAYLIGHT
DTSTART:20250309T030000
TZOFFSETFROM:-0500
TZOFFSETTO:-0400
TZNAME:EDT
END:DAYLIGHT
END:VTIMEZONE
END:VCALENDAR