BEGIN:VCALENDAR
VERSION:2.0
PRODID:-//wp-events-plugin.com//7.2.3.1//EN
TZID:America/Detroit
X-WR-TIMEZONE:America/Detroit
BEGIN:VEVENT
UID:35330@arabamerica.com
DTSTART;TZID=America/Detroit:20251107T180000
DTEND;TZID=America/Detroit:20251107T190000
DTSTAMP:20251106T011846Z
URL:https://www.arabamerica.com/events/fairuz-forever-a-tribute-to-the-voi
 ce-of-lebanon-and-the-arab-world-with-nibal-malshi/
SUMMARY:Fairuz Forever: A Tribute to the Voice of Lebanon and the Arab Worl
 d with Nibal Malshi
DESCRIPTION:\n\n\n\n\n\n\nPhotos: Wikimedia Commons\n\nJoin us for a magica
 l evening celebrating the legendary Fairuz on her birthday this November. 
 Acclaimed vocalist Nibal Malshi performs her timeless hits\, composed init
 ially by the iconic Rahbani Brothers\, from nostalgic folk melodies to bel
 oved pop songs. In the wake of the recent passing of Fairuz’s son\, Ziad
  Rahbani\, the program will also pay tribute to his remarkable legacy as a
  composer and innovator.\n\nHeld at the Kennedy Center’s Millennium Stag
 e and presented in partnership with the Arab America Foundation\, this con
 cert brings together generations to honor the enduring voice that captivat
 ed the Arab world.\n\n\n\n\n\n\n\n\n\nFor all Millennium Stage performance
 s\, a limited number of reservations are available on a first-come\, first
 -served basis. Reservations do not guarantee a seat\, and patrons are enco
 uraged to arrive early.\n\nOnline reservations for a given performance dat
 e will open on a rolling basis\, starting every Wednesday two weeks before
  the date.\n\nFor live Millennium Stage performances\, free tickets will a
 lso be available at the Hall of States Box Office on the day of the perfor
 mance\, beginning at 4:30 p.m.\n\nSeating is first-come\, first-served. St
 anding room is available behind the seated area as space allows.\n\nAfter-
 Party 7:30 pm after the Concert\n\nBus Boys and Poets \n\n450 K St NW\, W
 ashington\, DC 20001 (New Address)\n\nFree admission\, networking and musi
 c\, food on your own.\n\n\n\n\n\n\n\n\nTerms and Conditions\n\n\n\n
ATTACH;FMTTYPE=image/jpeg:https://www.arabamerica.com/wp-content/uploads/2
 025/10/nibal-malshi.webp
LOCATION:The Kennedy Center\, 2700 F St NW\, Washington DC\, Washington DC\
 , United States
GEO:38.8961514;-77.05544680000003
X-APPLE-STRUCTURED-LOCATION;VALUE=URI;X-ADDRESS=2700 F St NW\, Washington D
 C\, Washington DC\, United States;X-APPLE-RADIUS=100;X-TITLE=The Kennedy C
 enter:geo:38.8961514,-77.05544680000003
END:VEVENT
BEGIN:VTIMEZONE
TZID:America/Detroit
X-LIC-LOCATION:America/Detroit
BEGIN:STANDARD
DTSTART:20251102T010000
TZOFFSETFROM:-0400
TZOFFSETTO:-0500
TZNAME:EST
END:STANDARD
END:VTIMEZONE
END:VCALENDAR