BEGIN:VCALENDAR
VERSION:2.0
PRODID:-//wp-events-plugin.com//7.2.3.1//EN
TZID:America/Detroit
X-WR-TIMEZONE:America/Detroit
BEGIN:VEVENT
UID:35027@arabamerica.com
DTSTART;TZID=America/Detroit:20250824T123000
DTEND;TZID=America/Detroit:20250824T143000
DTSTAMP:20250821T175036Z
URL:https://www.arabamerica.com/events/families-for-gaza-at-lucky-strike-t
 ysons/
SUMMARY:Families for Gaza at Lucky Strike Tysons
DESCRIPTION:\n\n\nFamilies for Gaza at Lucky Strike Tysons\n\nFirst Home Mo
 rtage and I\, sponsored by Jacquie's Title and Escrow and Alhumd Inspectio
 ns are so excited to host for you for some bowling for a humanitarian caus
 e! Come join us for a fun-filled event at Lucky Strike Tysons Corner in su
 pport of the families in the on going crisis and famine in Gaza. With the 
 blockade in place since March\, we have trying to send money directly to v
 erified families on the ground in Gaza as well as small Organizations like
  Gaza's Little Light and Gaza Infant Collective. We work with a tireless t
 eam of Volunteers\, most notably Nurse Said Monsour to find the most vulne
 rable children and families. ALL DONATIONS AND PROCEEDS will go DIRECTLY T
 O VERIFIED FAMILIES! First Home has also pledged $2500 to Jose Andres Worl
 d Central Kitchen operations in Gaza and Levant Ministries an organization
  helping Gaza families displaced in Egypt.\n\nTickets will include bowling
 \, games\, and snacks. Any additional donations can be made at the event\,
  through our GoFundMe link https://gofund.me/663041c0 or directly to Venmo
  at aniqnguyen (last 4 digits 7459) with memo "Lucky Strike" to avoid plat
 form fees.\n\nPlease come enjoy a couple hours with some bowling and games
  with the kids and most importantly\, DONATE and help the families in Gaza
  experiencing crippling famine\n\n\n\n\n\n\n\n
ATTACH;FMTTYPE=image/jpeg:https://www.arabamerica.com/wp-content/uploads/2
 025/08/Screenshot-2025-08-21-at-12.50.10-PM.png
LOCATION:Lucky Strike Tysons Corner\, 2001 International Drive #Suite 1695G
  \, McLean\, VA\, 22102\, United States
GEO:38.923314;-77.224437
X-APPLE-STRUCTURED-LOCATION;VALUE=URI;X-ADDRESS=2001 International Drive #S
 uite 1695G \, McLean\, VA\, 22102\, United States;X-APPLE-RADIUS=100;X-TIT
 LE=Lucky Strike Tysons Corner:geo:38.923314,-77.224437
END:VEVENT
BEGIN:VTIMEZONE
TZID:America/Detroit
X-LIC-LOCATION:America/Detroit
BEGIN:DAYLIGHT
DTSTART:20250309T030000
TZOFFSETFROM:-0500
TZOFFSETTO:-0400
TZNAME:EDT
END:DAYLIGHT
END:VTIMEZONE
END:VCALENDAR