BEGIN:VCALENDAR
VERSION:2.0
PRODID:-//wp-events-plugin.com//7.2.3.1//EN
TZID:America/Detroit
X-WR-TIMEZONE:America/Detroit
BEGIN:VEVENT
UID:34306@arabamerica.com
DTSTART;TZID=America/Detroit:20250426T130000
DTEND;TZID=America/Detroit:20250426T200000
DTSTAMP:20250416T011830Z
URL:https://www.arabamerica.com/events/farah-festival-a-joyful-celebration
 -of-arab-american-culture/
SUMMARY:Farah Festival - A Joyful Celebration of Arab American Culture
DESCRIPTION:MONTRCLAIR\, NJ\n\nFARAH\, Foundation for Arab American Heritag
 e's 1st Annual Cultural Festival celebrates the rich tapestry of Arab Ame
 rican culture with joyful dance\, musical performances\, Arab cuisine\, Le
 vantine wines\, rich coffee and mocktails\, souk of artisans\, traditional
  family crafts and stories. The MAM's galleries will be open to explore wi
 th the price of admission. Please join us to experience the beauty and div
 ersity of Arab American culture.\n\n&nbsp\;\n\nSaturday April 26\, 2025  
  .     1:00pm-5:00pm \n\nMontclair Art Museum: 3 S. Mountain Ave\, Mont
 clair\, NJ \n\nTickets:  $8 individual\;  $28 family (up to 4)\n\nMAM M
 embers: $5 individual\; $16 family (up to 4)\n\n&nbsp\;\n\nFARAH’s miss
 ion is to bring people together to celebrate the joy\, beauty and diversit
 y of Arab American culture\, educate about the heritage and contributions 
 of Arab Americans\, and advocate for representation of Arab Americans to a
 chieve a more just and inclusive community. Any funds raised will go towar
 ds supporting this mission. \n\n\nFARAH strives to foster a climate of pu
 rposeful inclusion of all people. We value the diversity of racial and cul
 tural identity\, nationality\, sexual and affectionate orientation\, gende
 r identity and its expression\, religious background and belief\, marital 
 status\, family structure and educational and class status. 
ATTACH;FMTTYPE=image/jpeg:https://www.arabamerica.com/wp-content/uploads/2
 025/04/Screen-Shot-2025-04-15-at-21.23.31.png
LOCATION:Montclair Art Museum\, 3 S Mountain Ave\, Montclair\, NJ\, 07042\,
  United States
GEO:40.818583;-74.224245
X-APPLE-STRUCTURED-LOCATION;VALUE=URI;X-ADDRESS=3 S Mountain Ave\, Montclai
 r\, NJ\, 07042\, United States;X-APPLE-RADIUS=100;X-TITLE=Montclair Art Mu
 seum:geo:40.818583,-74.224245
END:VEVENT
BEGIN:VTIMEZONE
TZID:America/Detroit
X-LIC-LOCATION:America/Detroit
BEGIN:DAYLIGHT
DTSTART:20250309T030000
TZOFFSETFROM:-0500
TZOFFSETTO:-0400
TZNAME:EDT
END:DAYLIGHT
END:VTIMEZONE
END:VCALENDAR