BEGIN:VCALENDAR
VERSION:2.0
PRODID:-//wp-events-plugin.com//7.2.3.1//EN
TZID:America/Detroit
X-WR-TIMEZONE:America/Detroit
BEGIN:VEVENT
UID:33267@arabamerica.com
DTSTART;TZID=America/Detroit:20240725T170000
DTEND;TZID=America/Detroit:20240725T180000
DTSTAMP:20240724T222546Z
URL:https://www.arabamerica.com/events/farmington-stand-out-2/
SUMMARY:Farmington Stand-Out
DESCRIPTION:FARMINGTON\, ME\n\nA weekly stand-out held by the people of Far
 mington.\n\n 	Thursday\, July 25\, 2024\n 	5:00 PM  6:00 PM\n\n\n 	Post 
 Office196 Main StreetFarmington\, ME\, 04938United States (map)\n\n\n 	Go
 ogle Calendar  ICS\n
ATTACH;FMTTYPE=image/jpeg:https://www.arabamerica.com/wp-content/uploads/2
 024/07/Screenshot-2024-07-24-151543.png
LOCATION:Post Office\, 196 Main Street\, Farmington\, ME\, 04938\, United S
 tates
GEO:44.669976;-70.15035
X-APPLE-STRUCTURED-LOCATION;VALUE=URI;X-ADDRESS=196 Main Street\, Farmingto
 n\, ME\, 04938\, United States;X-APPLE-RADIUS=100;X-TITLE=Post Office:geo:
 44.669976,-70.15035
END:VEVENT
BEGIN:VTIMEZONE
TZID:America/Detroit
X-LIC-LOCATION:America/Detroit
BEGIN:DAYLIGHT
DTSTART:20240310T030000
TZOFFSETFROM:-0500
TZOFFSETTO:-0400
TZNAME:EDT
END:DAYLIGHT
END:VTIMEZONE
END:VCALENDAR