BEGIN:VCALENDAR
VERSION:2.0
PRODID:-//wp-events-plugin.com//7.2.3.1//EN
TZID:America/Detroit
X-WR-TIMEZONE:America/Detroit
BEGIN:VEVENT
UID:35007@arabamerica.com
DTSTART;TZID=America/Los_Angeles:20250823T190000
DTEND;TZID=America/Los_Angeles:20250823T233000
DTSTAMP:20250819T180227Z
URL:https://www.arabamerica.com/events/feed-gaza-fundraiser-backwards-bord
 ello/
SUMMARY:Feed Gaza Fundraiser - Backwards Bordello
DESCRIPTION:LOS ANGELES\, CA\n\n&nbsp\;\n\nJoin us at the Backwards Bordell
 o for a night of fundraising to feed Gaza - your support can make a differ
 ence!\nFeed Gaza Fundraiser - Backwards Bordello\nWelcome to the most unco
 nventional charity event of the year! Join us for a night of kinky and que
 er performers\, tasting booths\, vendors\, and patrons at the Feed Gaza Fu
 ndraiser. The world might be falling apart\, but we can make a difference 
 while being our authentic selves.\n\n&nbsp\;\n\nLearn More about Zaynab Pr
 oject here: https://chuffed.org/project/zaynabproject\n\nGET TICKETS HERE
ATTACH;FMTTYPE=image/jpeg:https://www.arabamerica.com/wp-content/uploads/2
 025/08/Screenshot-2025-08-19-at-2.01.48-PM.png
CATEGORIES:Community,culture
LOCATION:Sassafras Saloon\, 1233 Vine Street\, Los Angeles\, CA\, 90038\, U
 nited States
GEO:34.093525;-118.327251
X-APPLE-STRUCTURED-LOCATION;VALUE=URI;X-ADDRESS=1233 Vine Street\, Los Ange
 les\, CA\, 90038\, United States;X-APPLE-RADIUS=100;X-TITLE=Sassafras Salo
 on:geo:34.093525,-118.327251
END:VEVENT
BEGIN:VTIMEZONE
TZID:America/Los_Angeles
X-LIC-LOCATION:America/Los_Angeles
BEGIN:DAYLIGHT
DTSTART:20250309T030000
TZOFFSETFROM:-0800
TZOFFSETTO:-0700
TZNAME:PDT
END:DAYLIGHT
END:VTIMEZONE
END:VCALENDAR