BEGIN:VCALENDAR
VERSION:2.0
PRODID:-//wp-events-plugin.com//7.2.3.1//EN
TZID:America/Detroit
X-WR-TIMEZONE:America/Detroit
BEGIN:VEVENT
UID:36128@arabamerica.com
DTSTART;TZID=America/New_York:20260404T120000
DTEND;TZID=America/New_York:20260404T160000
DTSTAMP:20260401T011103Z
URL:https://www.arabamerica.com/events/female-spirituality-in-islam-a-sufi
 corner-conference/
SUMMARY:Female Spirituality in Islam - A SufiCorner Conference
DESCRIPTION:\n\n\nFemale Spirituality in Islam featuring five distinguished
  voices in Islamic thought and spiritual formation.\n\n\n\n\n\n\nOn April 
 4\, SufiCorner hosts an in-person Female Spirituality in Islam Conferencef
 eaturing five distinguished voices in Islamic thought and spiritual format
 ion.\n\n✧ Garrett Graddy-Lovelace (Moderator) is an anthropologist and p
 rofessor whose work explores food\, land\, labor\, and moral economies thr
 ough comparative\, ethical\, and spiritual lenses. Her research and teachi
 ng attend closely to questions of justice\, relationality\, and care\, dra
 wing on lived traditions\, community knowledge\, and critical inquiry to i
 lluminate the deeper values that shape human flourishing.\n\n✧ Aisha Gra
 y Henry (Speaker) is an American Islamic scholar\, writer\, filmmaker\, an
 d founder of Fons Vitae\, a publishing house dedicated to translating and 
 transmitting sacred Islamic texts — especially the works of Imam al-Ghaz
 ali — into accessible English and educational resources.\n\n✧ Maria Ma
 ssi Dakake (Speaker) is a scholar of Islamic intellectual history and Qur
 ’anic studies at George Mason University\, known for her work on Sufi tr
 aditions and her contributions to The Study Quran.\n\n✧ Farah El-Sharif 
 (Speaker) is a scholar in Islamic studies (Stanford University) whose rese
 arch engages classical and contemporary Islamic thought\, ethical inquiry\
 , and the expressive dimensions of religion.\n\n✧ Hina Khalid (Speaker) 
 is a thinker and writer whose work explores spirituality\, community\, and
  creativity in contemporary Islamic life.\n\nThis conference gathers these
  voices to reflect on the hidden dimensions of love\, knowledge\, and spir
 itual agency in the lived and intellectual traditions of Islam.\n\nDate &a
 mp\; Time: April 4th\, 2026 | Saturday | 12PM EST\n\nWhere: In-Person NYC 
 | 45 E 22nd St\, New York\, NY 10010\n\nFee: $20\n\nAvailable Live Online 
 (via Zoom)\n\nRegistration required. Light refreshments will be served.\n-
 --\n\nMembership &amp\; Fees\n\n 	If you become a member of SufiCorner\, y
 ou are eligible for a discounted rate for this program. Please click here 
 to become a member now!\n 	Members\, please email us if you can't reach yo
 ur special pricing.\n 	If cost is a barrier and you would like to request 
 a sponsored ticket\, please don’t hesitate to reach out. We’re happy t
 o help.\n 	Questions: social@suficorner.org\n\n#SufiCorner #FemaleSpiritua
 lity #IslamicThought #ScholarSeries #Spring2026\n\n\n
ATTACH;FMTTYPE=image/jpeg:https://www.arabamerica.com/wp-content/uploads/2
 026/03/SUFI.webp
LOCATION:Madison Square Park Tower\, 45 East 22nd Street\, New York\, NY\, 
 10010\, United States
GEO:40.739881;-73.987388
X-APPLE-STRUCTURED-LOCATION;VALUE=URI;X-ADDRESS=45 East 22nd Street\, New Y
 ork\, NY\, 10010\, United States;X-APPLE-RADIUS=100;X-TITLE=Madison Square
  Park Tower:geo:40.739881,-73.987388
END:VEVENT
BEGIN:VTIMEZONE
TZID:America/New_York
X-LIC-LOCATION:America/New_York
BEGIN:DAYLIGHT
DTSTART:20260308T030000
TZOFFSETFROM:-0500
TZOFFSETTO:-0400
TZNAME:EDT
END:DAYLIGHT
END:VTIMEZONE
END:VCALENDAR