BEGIN:VCALENDAR
VERSION:2.0
PRODID:-//wp-events-plugin.com//7.2.3.1//EN
TZID:America/Detroit
X-WR-TIMEZONE:America/Detroit
BEGIN:VEVENT
UID:32908@arabamerica.com
DTSTART;TZID=America/Detroit:20240612T200000
DTEND;TZID=America/Detroit:20240613T000000
DTSTAMP:20240528T190810Z
URL:https://www.arabamerica.com/events/festa-for-a-cause/
SUMMARY:Festa For A Cause
DESCRIPTION:NEW YORK\, NY\n\n\nA night of fun and dancing to BTS where all 
 profit goes to the Palestine Children's Relief Fund. 21+\, open bar\, good
 ie bags for every guest.\n\n\n\n\n\n\n\n\n\nFesta For a Cause 2024: Fundra
 iser for the PCRF &#x1f1f5\;&#x1f1f8\;\n&#x1f389\;This is a private event 
 organized by ARMYs for ARMYs.\nTICKET INCLUDES:\n\n&#x1f49f\;Entrance to p
 rivate ticketed event\n\n&#x1f49f\;Access to the open bar\n\n&#x1f49f\;Goo
 die bag including fanmade PCs\, postcard\, commemorative event ticket\, an
 d an acrylic keychain.\n\n&#x1f1f5\;&#x1f1f8\;100% of profits from ticket 
 sales will be donated to the Palestine Children's Relief Fund.\n\nEVENT IN
 FORMATION:\n\n&#x1f942\;Doors open at 8:00pm on June 12th and the party wi
 ll go until 12:00am on June 13th.\n\n&#x1f942\;The music will be entirely 
 BTS\, with songs from the group as well as each of the member's solo proje
 cts. (On ft. Sia will NOT be played. This is a safe space.)\n\n&#x1f942\;T
 he event venue IS wheelchair accesible. Additionally\, a seating area will
  be available to accomodate ARMYs with physical limitations.\n\nIMPORTANT 
 GUIDELINES (PLEASE READ):\n\n&#x2757\;&#xfe0f\;Ticket sales are final and 
 non-refundable.\n\n&#x2757\;&#xfe0f\;Guests MUST be 21+ in order to attend
  the event. Anyone underage will not be permitted entry even if they have 
 purchased a ticket and show up at the venue.\n\nAll guests are required to
  bring ID (including photo and date of birth) to be checked by security up
 on arrival.\n\n&#x2757\;&#xfe0f\;Be mindful and respectful of fellow ARMYs
 \, event staff\, and the event space. Anyone causing harm to another perso
 n or the venue is liable to be removed from the party by security.\n\n&#x2
 757\;&#xfe0f\;Smoking and vaping are both prohibited in the venue.\n\n\n\n
 \n\n\n\n\n\n\n\n\n\n\n\n\n\n\n\n\n\n\n\n\n
ATTACH;FMTTYPE=image/jpeg:https://www.arabamerica.com/wp-content/uploads/2
 024/05/temp-44.jpg
LOCATION:Manhattan Mirage\, 265 West 37th Street\, New York\, New York\, 10
 018\, United States
GEO:40.754099;-73.991708
X-APPLE-STRUCTURED-LOCATION;VALUE=URI;X-ADDRESS=265 West 37th Street\, New 
 York\, New York\, 10018\, United States;X-APPLE-RADIUS=100;X-TITLE=Manhatt
 an Mirage:geo:40.754099,-73.991708
END:VEVENT
BEGIN:VTIMEZONE
TZID:America/Detroit
X-LIC-LOCATION:America/Detroit
BEGIN:DAYLIGHT
DTSTART:20240310T030000
TZOFFSETFROM:-0500
TZOFFSETTO:-0400
TZNAME:EDT
END:DAYLIGHT
END:VTIMEZONE
END:VCALENDAR