BEGIN:VCALENDAR
VERSION:2.0
PRODID:-//wp-events-plugin.com//7.2.3.1//EN
TZID:America/Detroit
X-WR-TIMEZONE:America/Detroit
BEGIN:VEVENT
UID:35560@arabamerica.com
DTSTART;TZID=America/Los_Angeles:20260123T070000
DTEND;TZID=America/Los_Angeles:20260123T090000
DTSTAMP:20251216T071835Z
URL:https://www.arabamerica.com/events/fifa-arab-cup-finale-watch-party-at
 -hamsa/
SUMMARY:FIFA Arab Cup Finale Watch Party at Hamsa
DESCRIPTION:\nJoin us at Hamsa to watch the FIFA Arab Cup finale and enjoy 
 Arabic food and coffee! $30 at the door.\n\n\n\nFIFA Arab Cup Finale Watch
  Party\nJoin us in person at Hamsa (Arabic Restaurant + Coffee shop) to 
 catch the FIFA Arab Cup finale live on a big screen. Bring your friends\
 , wear your team colors\, and let’s make this finale one to remember!\n\
 n$30 at the door. Enjoy Arabic breakfast and coffee provided by Hamsa.\n\n
 \n
ATTACH;FMTTYPE=image/jpeg:https://www.arabamerica.com/wp-content/uploads/2
 025/12/Screenshot-2025-12-15-at-11.23.19-PM.png
CATEGORIES:Arab American,Community
LOCATION:Hamsa Seattle (Arabic Cafe + Restaurant)\, 2313 North 45th Street\
 , Seattle\, WA\, 98103\, United States
GEO:47.661228;-122.330753
X-APPLE-STRUCTURED-LOCATION;VALUE=URI;X-ADDRESS=2313 North 45th Street\, Se
 attle\, WA\, 98103\, United States;X-APPLE-RADIUS=100;X-TITLE=Hamsa Seattl
 e (Arabic Cafe + Restaurant):geo:47.661228,-122.330753
END:VEVENT
BEGIN:VTIMEZONE
TZID:America/Los_Angeles
X-LIC-LOCATION:America/Los_Angeles
BEGIN:STANDARD
DTSTART:20251102T010000
TZOFFSETFROM:-0700
TZOFFSETTO:-0800
TZNAME:PST
END:STANDARD
END:VTIMEZONE
END:VCALENDAR