BEGIN:VCALENDAR
VERSION:2.0
PRODID:-//wp-events-plugin.com//7.2.3.1//EN
TZID:America/Detroit
X-WR-TIMEZONE:America/Detroit
BEGIN:VEVENT
UID:35054@arabamerica.com
DTSTART;TZID=America/Detroit:20250913T190000
DTEND;TZID=America/Detroit:20250913T210000
DTSTAMP:20250901T201325Z
URL:https://www.arabamerica.com/events/fillin-seats-4-falastin/
SUMMARY:Fillin' Seats 4 Falastin
DESCRIPTION:LOS ANGELES\, CA\n\n\n\n\n\nThank you for supporting Gaza Soup 
 Kitchen! This grassroots organization serves 3\,000 meals daily and for ev
 ery $5 donated\, a family can be fed a hot\, nourishing meal. We are askin
 g our community to bring an additional $20 tax-deductable donation to the 
 event. A QR code will be provided for GPay\, PayPal\, Venmo\, Cash App\, o
 r ACH payments otherwise we will be able to accept cash and checks.\n\n\n\
 n\n\n\n\n\n\n\n\n\n\n\n\n\n\n\n\n\n\n\n\n\n\n\n\n\n\n\n
ATTACH;FMTTYPE=image/jpeg:https://www.arabamerica.com/wp-content/uploads/2
 025/09/FFFF.jpeg
LOCATION:Fourth Wall Comedy\, 5220 Hollywood Boulevard\,  Los Angeles\, CA\
 , 90027\, United States
GEO:34.101563;-118.304006
X-APPLE-STRUCTURED-LOCATION;VALUE=URI;X-ADDRESS=5220 Hollywood Boulevard\, 
  Los Angeles\, CA\, 90027\, United States;X-APPLE-RADIUS=100;X-TITLE=Fourt
 h Wall Comedy:geo:34.101563,-118.304006
END:VEVENT
BEGIN:VTIMEZONE
TZID:America/Detroit
X-LIC-LOCATION:America/Detroit
BEGIN:DAYLIGHT
DTSTART:20250309T030000
TZOFFSETFROM:-0500
TZOFFSETTO:-0400
TZNAME:EDT
END:DAYLIGHT
END:VTIMEZONE
END:VCALENDAR