BEGIN:VCALENDAR
VERSION:2.0
PRODID:-//wp-events-plugin.com//7.2.3.1//EN
TZID:America/Detroit
X-WR-TIMEZONE:America/Detroit
BEGIN:VEVENT
UID:32197@arabamerica.com
DTSTART;TZID=America/Detroit:20240209T180000
DTEND;TZID=America/Detroit:20240209T200000
DTSTAMP:20240206T032610Z
URL:https://www.arabamerica.com/events/film-block-3-a-portrait-of-palestin
 ian-people-and-their-art/
SUMMARY:FILM BLOCK 3: A Portrait of Palestinian People and Their Art
DESCRIPTION:\nAbout this event\n\n&nbsp\;\nCome join us for "Samoud: A Port
 rait of Palestinian People and Their Art" - A vibrant celebration of Pales
 tinian artistic expression.\n\n\n\n\n\n\n\nSumoud: A Portrait of Palestini
 an People and Their Art\n\n6:00 Doors\n\nProgramming\n\nShort: Like Twent
 y Impossibles (2003) - 16min - Both a visual poem and a narrative about 
 the fragmentation of a people\, "like twenty impossibles"\, also questions
  the politics of filmmaking and the opportunism of artists.\n\nFilm One: 
 Slingshot HipHop (2008)  - 1hr40min - Braids together the stories of youn
 g Palestinian artists living in Gaza\, the West Bank\, and inside Israe
 l as they discover hip hop\, and employ it as a tool to surmount division
 s imposed by occupation and poverty.\n\nFilm Two: Salt of this Sea (2008)
  - 1hr49min - An American-born Palestinian woman\, who heads to Israel an
 d Palestine on a quest to reclaim her family's home and money that were ta
 ken during the 1948 Arab-Israeli War.\n\n**Wearing masks is greatly appre
 ciated for the immunocompromised. Masks and sanitation stations will be av
 ailable to all guests.\n\n\n\n\n\n
ATTACH;FMTTYPE=image/jpeg:https://www.arabamerica.com/wp-content/uploads/2
 024/02/Screen-Shot-2024-02-05-at-10.25.32-PM.png
LOCATION:Pain Sugar Gallery\, 3635 9th Street\, Riverside\, CA\, 92501\, Un
 ited States
GEO:33.980666;-117.374206
X-APPLE-STRUCTURED-LOCATION;VALUE=URI;X-ADDRESS=3635 9th Street\, Riverside
 \, CA\, 92501\, United States;X-APPLE-RADIUS=100;X-TITLE=Pain Sugar Galler
 y:geo:33.980666,-117.374206
END:VEVENT
BEGIN:VTIMEZONE
TZID:America/Detroit
X-LIC-LOCATION:America/Detroit
BEGIN:STANDARD
DTSTART:20231105T010000
TZOFFSETFROM:-0400
TZOFFSETTO:-0500
TZNAME:EST
END:STANDARD
END:VTIMEZONE
END:VCALENDAR