BEGIN:VCALENDAR
VERSION:2.0
PRODID:-//wp-events-plugin.com//7.2.3.1//EN
TZID:America/Detroit
X-WR-TIMEZONE:America/Detroit
BEGIN:VEVENT
UID:32211@arabamerica.com
DTSTART;TZID=America/Detroit:20240216T180000
DTEND;TZID=America/Detroit:20240216T200000
DTSTAMP:20240206T043338Z
URL:https://www.arabamerica.com/events/film-block-5-speculative-perspectiv
 es-a-future-for-palestine/
SUMMARY:FILM BLOCK 5: Speculative Perspectives - A Future for Palestine
DESCRIPTION:Riverside\, CA.\n\n\n\n\n\n\n\n\n\n6:00 Doors\n\nProgramming\n\
 nShort: 3 Logical Exits (2020) - 14min - A sociological meditation on th
 e different ‘exits’ young Palestinians choose in order to cope with li
 fe in the refugee camps.\n\nFilm One: Children of Shatila (1998) - 50min
  -\n\nFarah and Issa\, two streetwise children living in Beirut's Palestin
 ian Shatila refugee camp\, use their imaginations and creativity to come t
 o terms with the realities of growing up in a refugee camp that has surviv
 ed massacre\, siege\, and starvation.\n\nFilm Two: Naila and the Uprising
  (2017) - 1hr16min -\n\nNaila and the Uprising chronicles the remarkable
  journey of Naila Ayesh and a fierce community of women at the frontlines\
 , whose stories weave through the most vibrant\, nonviolent mobilization i
 n Palestinian history - the First Intifada in the late 1980s.\n\n**Wearing
  masks is greatly appreciated for the immunocompromised. Masks and sanitat
 ion stations will be available to all guests.\n\n\n\n\n\n\n\n\n\n\n\n\n\n\
 n\n\n\n\n
ATTACH;FMTTYPE=image/jpeg:https://www.arabamerica.com/wp-content/uploads/2
 024/02/https___cdn.evbuc_.com_images_683130519_1965751819463_1_original.jp
 eg
CATEGORIES:Arab,Community
LOCATION:Pain Sugar Gallery\, 3635 9th Street \, Riverside \, CA\, United S
 tates
GEO:33.980666;-117.374206
X-APPLE-STRUCTURED-LOCATION;VALUE=URI;X-ADDRESS=3635 9th Street \, Riversid
 e \, CA\, United States;X-APPLE-RADIUS=100;X-TITLE=Pain Sugar Gallery:geo:
 33.980666,-117.374206
END:VEVENT
BEGIN:VTIMEZONE
TZID:America/Detroit
X-LIC-LOCATION:America/Detroit
BEGIN:STANDARD
DTSTART:20231105T010000
TZOFFSETFROM:-0400
TZOFFSETTO:-0500
TZNAME:EST
END:STANDARD
END:VTIMEZONE
END:VCALENDAR