BEGIN:VCALENDAR
VERSION:2.0
PRODID:-//wp-events-plugin.com//7.2.3.1//EN
TZID:America/Detroit
X-WR-TIMEZONE:America/Detroit
BEGIN:VEVENT
UID:35428@arabamerica.com
DTSTART;TZID=America/Boise:20251206T120000
DTEND;TZID=America/Boise:20251206T170000
DTSTAMP:20251118T210102Z
URL:https://www.arabamerica.com/events/film-screening-and-art-sale-for-pal
 estinian-families/
SUMMARY:Film Screening and Art Sale for Palestinian Families
DESCRIPTION:Join us in learning\, connection\, and fundraising for families
  in Palestine. Screening of ""No Other Land" and an Art Market fundraiser
ATTACH;FMTTYPE=image/jpeg:https://www.arabamerica.com/wp-content/uploads/2
 025/11/https___cdn.evbuc_.com_images_1170739886_2727138501631_1_original.j
 peg
LOCATION:Station Square\, 200 South Main Street\, Pocatello\, ID\, 83204\, 
 United States
GEO:42.861226;-112.449258
X-APPLE-STRUCTURED-LOCATION;VALUE=URI;X-ADDRESS=200 South Main Street\, Poc
 atello\, ID\, 83204\, United States;X-APPLE-RADIUS=100;X-TITLE=Station Squ
 are:geo:42.861226,-112.449258
END:VEVENT
BEGIN:VTIMEZONE
TZID:America/Boise
X-LIC-LOCATION:America/Boise
BEGIN:STANDARD
DTSTART:20251102T010000
TZOFFSETFROM:-0600
TZOFFSETTO:-0700
TZNAME:MST
END:STANDARD
END:VTIMEZONE
END:VCALENDAR