BEGIN:VCALENDAR
VERSION:2.0
PRODID:-//wp-events-plugin.com//7.2.3.1//EN
TZID:America/Detroit
X-WR-TIMEZONE:America/Detroit
BEGIN:VEVENT
UID:34817@arabamerica.com
DTSTART;TZID=America/New_York:20250801T140000
DTEND;TZID=America/New_York:20250801T153000
DTSTAMP:20250729T015835Z
URL:https://www.arabamerica.com/events/film-screening-brides/
SUMMARY:Film Screening: Brides
DESCRIPTION:WASHINGTON\, DC\n\n&nbsp\;\n\nJoin us for a fun movie night fea
 turing the film "Brides" - a hilarious comedy about the chaos of wedding p
 lanning!\n\nFilm Screening: Brides\n\nCome join us for a special film scre
 ening of the classic movie 'Brides' at the University Student Center at Ge
 orge Washington University!\n\nBrides (Sundance 2025 World Premiere) tells
  the coming-of-age story of two Muslim teenage girls in the UK\, Muna and 
 Doe\, who\, facing racism and bullying\, are lured by social media promise
 s of a better life in Syria as ISIS brides.\n\nThe film delves into themes
  of identity\, belonging\, and the challenges of navigating adolescence as
  minorities in British society\, where they experience "pervasive minoriti
 zation and othering". Critics at Sundance highlighted the "star-making per
 formances" of the two young leads and described the film as a "heartbreaki
 ng feature debut".\n\nTickets also available HERE
ATTACH;FMTTYPE=image/jpeg:https://www.arabamerica.com/wp-content/uploads/2
 025/07/Screenshot-2025-07-28-at-9.58.17-PM.png
CATEGORIES:#arabic,Arab American,culture
LOCATION:University Student Center\, 800 21st Street Northwest\, Washington
  \, DC\, 20052\, United States
GEO:38.899924;-77.047113
X-APPLE-STRUCTURED-LOCATION;VALUE=URI;X-ADDRESS=800 21st Street Northwest\,
  Washington \, DC\, 20052\, United States;X-APPLE-RADIUS=100;X-TITLE=Unive
 rsity Student Center:geo:38.899924,-77.047113
END:VEVENT
BEGIN:VTIMEZONE
TZID:America/New_York
X-LIC-LOCATION:America/New_York
BEGIN:DAYLIGHT
DTSTART:20250309T030000
TZOFFSETFROM:-0500
TZOFFSETTO:-0400
TZNAME:EDT
END:DAYLIGHT
END:VTIMEZONE
END:VCALENDAR