BEGIN:VCALENDAR
VERSION:2.0
PRODID:-//wp-events-plugin.com//7.2.3.1//EN
TZID:America/Detroit
X-WR-TIMEZONE:America/Detroit
BEGIN:VEVENT
UID:35140@arabamerica.com
DTSTART;TZID=America/Detroit:20251002T173000
DTEND;TZID=America/Detroit:20251002T200000
DTSTAMP:20250923T132505Z
URL:https://www.arabamerica.com/events/film-screening-gaza-doctors-under-a
 ttack/
SUMMARY:Film Screening: Gaza\, Doctors Under Attack
DESCRIPTION:COLUMBUS\, OH\n\n\n\nGaza: Doctors Under Attack is a 2025 docum
 entary on doctors working during the Gaza war\, detailing the killings and
  torture of healthcare workers and attacks on hospitals by the Israel Defe
 nce Forces.\n\nThis film screening and panel addresses the healthcare infr
 astructure and features different healthcare professionals with lived expe
 rience in Palestine.\n\nTime and Date: 10/2/2025\, 5:30-8:00\n\nLocation: 
 Columbus Main Library Auditorium\, 96 S Grant Ave
ATTACH;FMTTYPE=image/jpeg:https://www.arabamerica.com/wp-content/uploads/2
 025/09/flll.jpeg
LOCATION:Columbus Metropolitan Library: Hilltop Branch\, 511 South Hague Av
 enue\, Columbus\, OH\, 43204\, United States
GEO:39.944476;-83.073556
X-APPLE-STRUCTURED-LOCATION;VALUE=URI;X-ADDRESS=511 South Hague Avenue\, Co
 lumbus\, OH\, 43204\, United States;X-APPLE-RADIUS=100;X-TITLE=Columbus Me
 tropolitan Library: Hilltop Branch:geo:39.944476,-83.073556
END:VEVENT
BEGIN:VTIMEZONE
TZID:America/Detroit
X-LIC-LOCATION:America/Detroit
BEGIN:DAYLIGHT
DTSTART:20250309T030000
TZOFFSETFROM:-0500
TZOFFSETTO:-0400
TZNAME:EDT
END:DAYLIGHT
END:VTIMEZONE
END:VCALENDAR