BEGIN:VCALENDAR
VERSION:2.0
PRODID:-//wp-events-plugin.com//7.2.3.1//EN
TZID:America/Detroit
X-WR-TIMEZONE:America/Detroit
BEGIN:VEVENT
UID:32378@arabamerica.com
DTSTART;TZID=America/Detroit:20240309T170000
DTEND;TZID=America/Detroit:20240309T200000
DTSTAMP:20240304T180856Z
URL:https://www.arabamerica.com/events/film-screening-gaza-fights-for-free
 dom-2021/
SUMMARY:Film Screening: Gaza Fights For Freedom 2021
DESCRIPTION:CA. Join Palestine Solidarity Central Coast for a captivating f
 ilm screening on March 9th as we showcase "Gaza Fights for Freedom 2021" b
 y Abby Martin. The film screening will be held at the Resource Center for 
 Nonviolence from 5pm-8pm.\n\nFollowing the screening\, we invite you to di
 scuss the film\, share your thoughts\, debrief and process together. After
  our discussion portion\, join us to unwind and connect with community ove
 r coffee and snacks.\n\nChildcare will be provided - Feel free to reach ou
 t if you have any accessibility needs\, requests or concerns: palestinians
 olidarity.cc@proton.me
ATTACH;FMTTYPE=image/jpeg:https://www.arabamerica.com/wp-content/uploads/2
 024/03/https___cdn.evbuc_.com_images_707992529_287614296944_1_original.jpe
 g
LOCATION:resource center for nonviolence\, 612 ocean street\, santa cruz\, 
 california\, United States
GEO:36.9769199;-122.0196793
X-APPLE-STRUCTURED-LOCATION;VALUE=URI;X-ADDRESS=612 ocean street\, santa cr
 uz\, california\, United States;X-APPLE-RADIUS=100;X-TITLE=resource center
  for nonviolence:geo:36.9769199,-122.0196793
END:VEVENT
BEGIN:VTIMEZONE
TZID:America/Detroit
X-LIC-LOCATION:America/Detroit
BEGIN:STANDARD
DTSTART:20231105T010000
TZOFFSETFROM:-0400
TZOFFSETTO:-0500
TZNAME:EST
END:STANDARD
END:VTIMEZONE
END:VCALENDAR