BEGIN:VCALENDAR
VERSION:2.0
PRODID:-//wp-events-plugin.com//7.2.3.1//EN
TZID:America/Detroit
X-WR-TIMEZONE:America/Detroit
BEGIN:VEVENT
UID:35362@arabamerica.com
DTSTART;TZID=America/Detroit:20251110T183000
DTEND;TZID=America/Detroit:20251110T203000
DTSTAMP:20251104T222654Z
URL:https://www.arabamerica.com/events/film-screening-the-dupes/
SUMMARY:Film Screening - The Dupes
DESCRIPTION:\nJoin us for the screening of 1973 Syrian drama film based on 
 Ghassan Kanafani’s novella Men in the Sun.\n\n\n\n\nSet in the 1950s\, 
 The Dupes traces the destinies of three different men brought together by
  their dispossession\, their despair and their hope for a better future. T
 he protagonists are Palestinian refugees who are trying to make their way 
 across the border from Iraq into Kuwait\, the 'Promised Land\,' concealed 
 in the steel tank of a truck. Representing different dimensions of the Pal
 estinian experience\, each one believes he can make a new life for himself
 .\n\nOne of the first Arab films to address the Palestinian question\, 'Th
 e Dupes' is based on the 1962 novella 'Men in the Sun' by assassinated Pal
 estinian writer\, artist and resistance leader\, Ghassan Kanafani. Set in 
 Palestine and Iraq\, and filmed in Syria by Tewfik Saleh\, an Egyptian dir
 ector\, the film was banned in several Arab countries due to its implied c
 riticisms of Arab governments.\n\nRun time: 1 hour 46 minutes\n\nScreening
  will be followed by a short informal discussion.\n\nWe want our events to
  be accessible to all but if you can\, please register using the suggested
  donation option.\n\n\n
ATTACH;FMTTYPE=image/jpeg:https://www.arabamerica.com/wp-content/uploads/2
 025/11/https___cdn.evbuc_.com_images_1166059663_670816986363_1_original.jp
 eg
LOCATION:The Festival Center\, 1640 Columbia Rd NW\, Washington\, District 
 of Columbia\, 20009\, United States
GEO:38.925254;-77.0381415
X-APPLE-STRUCTURED-LOCATION;VALUE=URI;X-ADDRESS=1640 Columbia Rd NW\, Washi
 ngton\, District of Columbia\, 20009\, United States;X-APPLE-RADIUS=100;X-
 TITLE=The Festival Center:geo:38.925254,-77.0381415
END:VEVENT
BEGIN:VTIMEZONE
TZID:America/Detroit
X-LIC-LOCATION:America/Detroit
BEGIN:STANDARD
DTSTART:20251102T010000
TZOFFSETFROM:-0400
TZOFFSETTO:-0500
TZNAME:EST
END:STANDARD
END:VTIMEZONE
END:VCALENDAR