BEGIN:VCALENDAR
VERSION:2.0
PRODID:-//wp-events-plugin.com//7.2.3.1//EN
TZID:America/Detroit
X-WR-TIMEZONE:America/Detroit
BEGIN:VEVENT
UID:35357@arabamerica.com
DTSTART;TZID=America/New_York:20251111T110000
DTEND;TZID=America/New_York:20251111T123000
DTSTAMP:20251104T152332Z
URL:https://www.arabamerica.com/events/film-screening-tilka/
SUMMARY:Film Screening: TILKA
DESCRIPTION:BOSTON\, MA\n\nJoin CFD and the team behind the award-winning d
 ocumentary TILKA for a film screening and conversation.\n\n\n\nJoin CFD an
 d the team behind TILKA for a film screening and conversation.\nTILKA is a
 n intimate portrait of five women navigating multiple crises in Lebanon: p
 rolonged economic collapse\, a global pandemic and the aftermath of the Be
 irut port blast. Najah\, Tima\, Rania\, Fatima and Fida meet in March 2021
  for an artist’s residency in the mountains outside Beirut\, coming toge
 ther to create an original piece of theatre. As the country grapples with 
 collapse\, they weave together a story inspired by their experiences as wo
 men fighting against the odds for their rights.\n\nTILKA won Best Local Do
 cumentary at the 2023 Lebanese Independent Film Festival and premiered in 
 the UK at Cambridge Film Festival.\n\nA Seenaryo production\nDirector: Myr
 iam Geagea\nCinematography: Elsy Hajjar\n\nGet Tickets Here\n\n\n
ATTACH;FMTTYPE=image/jpeg:https://www.arabamerica.com/wp-content/uploads/2
 025/11/Screenshot-2025-11-04-at-10.20.34-AM.png
LOCATION:665 Commonwealth Ave room 950\, 665 Commonwealth Avenue #room 950\
 , Boston\, MA\, 02215\, United States
GEO:42.349897;-71.10323
X-APPLE-STRUCTURED-LOCATION;VALUE=URI;X-ADDRESS=665 Commonwealth Avenue #ro
 om 950\, Boston\, MA\, 02215\, United States;X-APPLE-RADIUS=100;X-TITLE=66
 5 Commonwealth Ave room 950:geo:42.349897,-71.10323
END:VEVENT
BEGIN:VTIMEZONE
TZID:America/New_York
X-LIC-LOCATION:America/New_York
BEGIN:STANDARD
DTSTART:20251102T010000
TZOFFSETFROM:-0400
TZOFFSETTO:-0500
TZNAME:EST
END:STANDARD
END:VTIMEZONE
END:VCALENDAR