BEGIN:VCALENDAR
VERSION:2.0
PRODID:-//wp-events-plugin.com//7.2.3.1//EN
TZID:America/Detroit
X-WR-TIMEZONE:America/Detroit
BEGIN:VEVENT
UID:30831@arabamerica.com
DTSTART;TZID=America/Detroit:20230419T150000
DTEND;TZID=America/Detroit:20230419T160000
DTSTAMP:20230406T173330Z
URL:https://www.arabamerica.com/events/finding-pictures-in-celebration-of-
 national-arab-american-heritage-month/
SUMMARY:Finding Pictures: In Celebration of National Arab American Heritage
  Month
DESCRIPTION:Online Event (live-streamed on zoomgov.com)\nWednesday\, April 
 19\, 2023\n\n3:00 pm - 4:00 pm EDT\n Add to calendar\n\nThis event will b
 e livestreamed on zoomgov.com External. It will be available for viewing
  afterwards in the Library's Event Videos collection.\n\nWhere: Online O
 nly\nRequest ADA accommodations five business days in advance at (202) 707
 -6362 or ADA@loc.gov.\nCelebrate National Arab American Heritage Month wit
 h a selection of pictures by and about the diverse Arab American community
 . Join Curator Sara W. Duke in a look at photographs\, cartoons\, and draw
 ings that depict famous people\, social life\, traditions\, and immersion 
 into Arab American culture. The focus of this program will be on images cr
 eated in the past 50 years.
ATTACH;FMTTYPE=image/jpeg:https://www.arabamerica.com/wp-content/uploads/2
 023/04/Screen-Shot-2023-04-06-at-1.33.01-PM.png
CATEGORIES:culture,Image
END:VEVENT
BEGIN:VTIMEZONE
TZID:America/Detroit
X-LIC-LOCATION:America/Detroit
BEGIN:DAYLIGHT
DTSTART:20230312T030000
TZOFFSETFROM:-0500
TZOFFSETTO:-0400
TZNAME:EDT
END:DAYLIGHT
END:VTIMEZONE
END:VCALENDAR