BEGIN:VCALENDAR
VERSION:2.0
PRODID:-//wp-events-plugin.com//7.2.3.1//EN
TZID:America/Detroit
X-WR-TIMEZONE:America/Detroit
BEGIN:VEVENT
UID:34917@arabamerica.com
DTSTART;TZID=America/Los_Angeles:20250823T140000
DTEND;TZID=America/Los_Angeles:20250823T180000
DTSTAMP:20250805T210624Z
URL:https://www.arabamerica.com/events/finding-sakan-islamic-framework-of-
 marriage-family/
SUMMARY:Finding Sakan: Islamic Framework of Marriage & Family
DESCRIPTION:IRVINE\, CA\n\n&nbsp\;\n\nwith Dr. Sh. Haifaa Younis and Sh. Mo
 hammad AlMasmari\n\nIn a world filled with chaos\, your home should be a s
 anctuary of peace\, a place where hearts find rest and feel secure. Allah 
 reminds us\, "And Allah has made for you your homes as places of rest and 
 tranquility." (Surah An-Nahl 16:80). But how do we cultivate that sakeenah
  (tranquility) in our marriages and families?\n\nJoin Dr. Sh. Haifaa Youni
 s and Sh. Mohamed AlMasmari as they guide you through the Islamic framewor
 k for building a stable\, loving\, and harmonious home. Discover the keys 
 to fostering happiness\, resolving conflicts with wisdom\, and nurturing a
  household rooted in mercy and faith.\n\nWhether you're newly married\, st
 rengthening your family bonds\, or seeking tranquility in your home\, this
  event will provide the spiritual and practical tools you need.\n\n&nbsp\;
 \n\nFind peace. Build love. Create sakeenah.\n\nGET TICKETS HERE
ATTACH;FMTTYPE=image/jpeg:https://www.arabamerica.com/wp-content/uploads/2
 025/08/Screenshot-2025-08-05-at-5.02.40-PM.png
CATEGORIES:Arab American,Community,culture,Discussion
LOCATION:5520 Trabuco Rd\, 5520 Trabuco Rd\, Irvine\, California\, 92620\, 
 United States
GEO:33.697191;-117.764719
X-APPLE-STRUCTURED-LOCATION;VALUE=URI;X-ADDRESS=5520 Trabuco Rd\, Irvine\, 
 California\, 92620\, United States;X-APPLE-RADIUS=100;X-TITLE=5520 Trabuco
  Rd:geo:33.697191,-117.764719
END:VEVENT
BEGIN:VTIMEZONE
TZID:America/Los_Angeles
X-LIC-LOCATION:America/Los_Angeles
BEGIN:DAYLIGHT
DTSTART:20250309T030000
TZOFFSETFROM:-0800
TZOFFSETTO:-0700
TZNAME:PDT
END:DAYLIGHT
END:VTIMEZONE
END:VCALENDAR