BEGIN:VCALENDAR
VERSION:2.0
PRODID:-//wp-events-plugin.com//7.2.3.1//EN
TZID:America/Detroit
X-WR-TIMEZONE:America/Detroit
BEGIN:VEVENT
UID:31604@arabamerica.com
DTSTART;TZID=America/Detroit:20230901T170000
DTEND;TZID=America/Detroit:20230901T200000
DTSTAMP:20230821T235113Z
URL:https://www.arabamerica.com/events/first-friday-artwalk-opening-of-qai
 cs-expanded-perfumery-museum/
SUMMARY:First Friday ArtWalk: Opening of QAIC’s Expanded Perfumery Museum
DESCRIPTION:Join the Qatar America Institute for Culture (QAIC) during the 
 Dupont Circle BID’s First Friday ArtWalk from 5 to 8 PM to celebrate t
 he opening of our expanded Perfumery Museum!\n\nBridging Qatari\, Arab\
 , and global cultures together\, the museum introduces visitors to the his
 tory and importance of scent to the Middle East\, from the origins of the 
 distillation process and the exchange of raw materials and oils along the 
 silk road\, connecting East to West to the contemporary science and billio
 n dollar industry that is the perfumery industry today.\n\nTest your nose 
 by learning about the essential aromas indigenous to the Middle East\, Nor
 th Africa and Southwest Asia through both smell and sight. Add your scent 
 memory to our interactive wall scent memory wall and walk and smell your w
 ay through a contemporary installation by emerging Qatari artist AlMaha Ah
 med Al-Mahmoud.
ATTACH;FMTTYPE=image/jpeg:https://www.arabamerica.com/wp-content/uploads/2
 023/08/Screen-Shot-2023-08-21-at-7.47.38-PM.png
CATEGORIES:#arabic,Arab America Museum,Museum,Perfume
LOCATION:Qatar America Institute for Culture (QAIC)\, 1319 18th Street NW\,
  Washington\, DC\, 20036\, United States
GEO:38.907781;-77.041357
X-APPLE-STRUCTURED-LOCATION;VALUE=URI;X-ADDRESS=1319 18th Street NW\, Washi
 ngton\, DC\, 20036\, United States;X-APPLE-RADIUS=100;X-TITLE=Qatar Americ
 a Institute for Culture (QAIC):geo:38.907781,-77.041357
END:VEVENT
BEGIN:VTIMEZONE
TZID:America/Detroit
X-LIC-LOCATION:America/Detroit
BEGIN:DAYLIGHT
DTSTART:20230312T030000
TZOFFSETFROM:-0500
TZOFFSETTO:-0400
TZNAME:EDT
END:DAYLIGHT
END:VTIMEZONE
END:VCALENDAR