BEGIN:VCALENDAR
VERSION:2.0
PRODID:-//wp-events-plugin.com//7.2.3.1//EN
TZID:America/Detroit
X-WR-TIMEZONE:America/Detroit
BEGIN:VEVENT
UID:35576@arabamerica.com
DTSTART;TZID=America/Chicago:20260225T173000
DTEND;TZID=America/Chicago:20260225T200000
DTSTAMP:20251216T183212Z
URL:https://www.arabamerica.com/events/first-ramadan-iftar-dinner-hosted-b
 y-edina-somali-american-community/
SUMMARY:First Ramadan Iftar Dinner Hosted by Edina Somali American Communit
 y
DESCRIPTION:\nJoin the Edina Somali American Community for our first annual
  Ramadan Iftar Dinner — a night of unity\, culture\, and community conne
 ction.\n\n\n\n\nIn honor of the blessed month of Ramadan\, the Edina Somal
 i American Community (ESAC) warmly invites you to our first annual communi
 ty iftar dinner.\n\nThe Somali community — the largest Muslim community 
 in Edina and in Minnesota — is proud to host this special gathering to c
 elebrate the month of Ramadan\, culture\, and unity.\n\nThis special eveni
 ng will bring the Edina community together to:\n\n 	Break fast and share a
  traditional meal\n 	Celebrate Somali and Muslim culture and heritage\n 	E
 njoy fellowship\, conversation\, and connection\n 	Promote community engag
 ement and participation\n 	Network and build relationships across our Edin
 a community\n\nWe welcome families\, elders\, youth\, neighbors\, and comm
 unity partners to join us as we honor the month of Ramadan\, culture\, and
  shared community.\n\n\n
ATTACH;FMTTYPE=image/jpeg:https://www.arabamerica.com/wp-content/uploads/2
 025/12/https___cdn.evbuc_.com_images_1171383663_2984035679417_1_original.j
 peg
LOCATION:7450 Metro Blvd\, 7450 Metro Blvd\, Edina\, MN\, 55439\, United St
 ates
GEO:44.867306;-93.354788
X-APPLE-STRUCTURED-LOCATION;VALUE=URI;X-ADDRESS=7450 Metro Blvd\, Edina\, M
 N\, 55439\, United States;X-APPLE-RADIUS=100;X-TITLE=7450 Metro Blvd:geo:4
 4.867306,-93.354788
END:VEVENT
BEGIN:VTIMEZONE
TZID:America/Chicago
X-LIC-LOCATION:America/Chicago
BEGIN:STANDARD
DTSTART:20251102T010000
TZOFFSETFROM:-0500
TZOFFSETTO:-0600
TZNAME:CST
END:STANDARD
END:VTIMEZONE
END:VCALENDAR