BEGIN:VCALENDAR
VERSION:2.0
PRODID:-//wp-events-plugin.com//7.2.3.1//EN
TZID:America/Detroit
X-WR-TIMEZONE:America/Detroit
BEGIN:VEVENT
UID:35761@arabamerica.com
DTSTART;TZID=America/Detroit:20260225T170000
DTEND;TZID=America/Detroit:20260225T200000
DTSTAMP:20260127T152941Z
URL:https://www.arabamerica.com/events/fiu-annual-interfaith-iftar-dinner/
SUMMARY:FIU Annual Interfaith Iftar Dinner
DESCRIPTION:MIAMI\, FL\n\nJoin the Jaffer Center for Muslim World Studies a
 t FIU as we hold our Annual interfaith Iftar dinner in observance of Ramad
 an.\n\n\nJoin the Jaffer Center for Muslim World Studies at FIU as we hold
  our Annual interfaith Iftar dinner in observance of Ramadan. The holy mon
 th of Ramadan is observed by Muslims worldwide. According to Islamic belie
 f\, it commemorates the first revelation of the Quran from Allah (God) to 
 the Prophet Muhammad\, through the angel Gabriel\n\nFREE AND OPEN TO THE P
 UBLIC\, RSVP REQUIRED\n\nhttps://www.eventbrite.com/e/fiu-annual-interfait
 h-iftar-dinner-tickets-1980664877968?aff=ebdssbdestsearch\n\n&nbsp\;\n\n
ATTACH;FMTTYPE=image/jpeg:https://www.arabamerica.com/wp-content/uploads/2
 026/01/Screenshot-2026-01-27-at-10.29.16-AM.png
LOCATION:Florida International University\, 11200 Southwest 8th Street  Gra
 ham Center 243\, Miami\, FL\, 33199\, United States
GEO:25.7562136;-80.3727644
X-APPLE-STRUCTURED-LOCATION;VALUE=URI;X-ADDRESS=11200 Southwest 8th Street 
  Graham Center 243\, Miami\, FL\, 33199\, United States;X-APPLE-RADIUS=100
 ;X-TITLE=Florida International University:geo:25.7562136,-80.3727644
END:VEVENT
BEGIN:VTIMEZONE
TZID:America/Detroit
X-LIC-LOCATION:America/Detroit
BEGIN:STANDARD
DTSTART:20251102T010000
TZOFFSETFROM:-0400
TZOFFSETTO:-0500
TZNAME:EST
END:STANDARD
END:VTIMEZONE
END:VCALENDAR