BEGIN:VCALENDAR
VERSION:2.0
PRODID:-//wp-events-plugin.com//7.2.3.1//EN
TZID:America/Detroit
X-WR-TIMEZONE:America/Detroit
BEGIN:VEVENT
UID:35754@arabamerica.com
DTSTART;TZID=America/Detroit:20260130T000000
DTEND;TZID=America/Detroit:20260201T000000
DTSTAMP:20260121T173901Z
URL:https://www.arabamerica.com/events/florida-arab-film-festival/
SUMMARY:Florida Arab Film Festival
DESCRIPTION:\nThe Birth of the FLORIDA ARAB FILM FESTIVAL\n\n\nThe Florida 
 Arab Film Festival launches its inaugural edition in 2026\, marking the 
 first event of its kind in the state. Presented by Movie Buffs Production
 s\, Tampa Bay Film Circle\, and NCG Cinemas\, the festival will take pla
 ce in Tampa Bay and celebrate the richness and diversity of Arab storyte
 lling. Dedicated to showcasing contemporary and independent Arabic films\,
  the festival aims to introduce Florida audiences to bold new voices\, com
 pelling narratives\, and vibrant cinematic perspectives from across the Ar
 ab world.\n\n
ATTACH;FMTTYPE=image/jpeg:https://www.arabamerica.com/wp-content/uploads/2
 026/01/Screenshot-2026-01-21-at-12.34.12-PM.png
CATEGORIES:Arab Culture,Arab Film
END:VEVENT
BEGIN:VTIMEZONE
TZID:America/Detroit
X-LIC-LOCATION:America/Detroit
BEGIN:STANDARD
DTSTART:20251102T010000
TZOFFSETFROM:-0400
TZOFFSETTO:-0500
TZNAME:EST
END:STANDARD
END:VTIMEZONE
END:VCALENDAR