BEGIN:VCALENDAR
VERSION:2.0
PRODID:-//wp-events-plugin.com//7.2.3.1//EN
TZID:America/Detroit
X-WR-TIMEZONE:America/Detroit
BEGIN:VEVENT
UID:31520@arabamerica.com
DTSTART;TZID=America/Detroit:20230915T120000
DTEND;TZID=America/Detroit:20230917T180000
DTSTAMP:20230807T223011Z
URL:https://www.arabamerica.com/events/flow-with-arabic-calligraphy-khalid
 -casado/
SUMMARY:Flow with Arabic Calligraphy: Khalid Casado
DESCRIPTION:Join us for a captivating weekend of artistic exploration at th
 e our calligraphy retreat with Khalid Casado in Bethesda\, Maryland. Imme
 rse yourself in the beautiful world of calligraphy and discover the art of
  handwritten expression.\n\nStarting on Fri\, Sep 15\, 2023\, this in-per
 son event promises to be a delightful experience for calligraphy enthusias
 ts of all levels. Whether you are a beginner or an experienced artist\, t
 his retreat offers a unique opportunity to learn\, create\, and connect wi
 th like-minded individuals.\n\nAdditionally\, you'll have ample time for p
 ersonal practice\, as well as opportunities to engage in meaningful discus
 sions and exchange ideas with fellow participants. This retreat is not jus
 t about learning calligraphy but also fostering a sense of community and c
 amaraderie.\n\nSo\, mark your calendars and get ready to embark on a memor
 able journey into the world of calligraphy. Join us at the Flow with Arab
 ic Calligraphy in Bethesda\, Maryland\, and let your creativity flow!\n\n
 All resources included at the session. Booking is required. Registration i
 s limited\, so book soon!\n\nFriday 12-6pm Lunch included\n\nSaturday 10
 -6pm with lunch included\n\nSunday 10-4pm lunch and dinner included\n\n(O
 ptional: Private viewing of Casado's work on Thursday Sept 14 at 6pm)\n\n&
 nbsp\;\n\nKhalid Casado\n\nKhalid was born in Madrid where he has lived an
 d developed both personally and academically. In 2009\, he met Nuria Garc
 ía Masip who later became his mentor and master. Guided by her\, he trave
 led to Istanbul and became acquainted with her masters. This is how he beg
 an his first lessons with the master calligrapher Davut Bektas\, and alway
 s under the supervision of master Hasan Çelebi.\n\nTwo years later\, he s
 tarted taking lessons from the master calligrapher Ferhat Kurlu who\, alon
 g with Nuria\, became one of his strongest influences. He received his ica
 zet or calligraphy diploma in sülüs and nesih scripts. In 2015\,he trave
 led for the first time to the United States and met master calligrapher Mo
 hammed Zakariya\, a person who has also inspired and influenced his work. 
 He teaches in cities throughout Spain and Europe. More of his work can be 
 seen at his website\, Sacred Lines. (sacred-lines.com)\n\nPlease note: Zel
 le option is available for payment. Please reach out for more information.
ATTACH;FMTTYPE=image/jpeg:https://www.arabamerica.com/wp-content/uploads/2
 023/08/https___cdn.evbuc_.com_images_565331769_284118110763_1_original.jpe
 g
LOCATION:Maryland Bethesda\, Frontier Adjusters Inc\, Bethesda\, MD 20827\,
  Bethesda\, 20827\, United States
GEO:39.01;-77.16
X-APPLE-STRUCTURED-LOCATION;VALUE=URI;X-ADDRESS=Frontier Adjusters Inc\, Be
 thesda\, MD 20827\, Bethesda\, 20827\, United States;X-APPLE-RADIUS=100;X-
 TITLE=Maryland Bethesda:geo:39.01,-77.16
END:VEVENT
BEGIN:VTIMEZONE
TZID:America/Detroit
X-LIC-LOCATION:America/Detroit
BEGIN:DAYLIGHT
DTSTART:20230312T030000
TZOFFSETFROM:-0500
TZOFFSETTO:-0400
TZNAME:EDT
END:DAYLIGHT
END:VTIMEZONE
END:VCALENDAR