BEGIN:VCALENDAR
VERSION:2.0
PRODID:-//wp-events-plugin.com//7.2.3.1//EN
TZID:America/Detroit
X-WR-TIMEZONE:America/Detroit
BEGIN:VEVENT
UID:34733@arabamerica.com
DTSTART;TZID=America/Detroit:20250726T140000
DTEND;TZID=America/Detroit:20250726T160000
DTSTAMP:20250708T165900Z
URL:https://www.arabamerica.com/events/folktales-from-sudan-with-hana-baba
 -live-in-person/
SUMMARY:Folktales from Sudan with Hana Baba - Live & In Person
DESCRIPTION:SAN FRANCISCO\, CA\n\n&nbsp\;\n\nExperience stories from Sudane
 se folklore for the whole family\, told by award-winning KALW journalist a
 nd storyteller Hana Baba - live!\n\nJoin award winning KALW radio host\, p
 odcaster and voice actor Hana Baba as she tells Folktales from Sudan- the 
 stories she grew up with in her Sudanese American home. Bring the whole fa
 mily for an uplifting afternoon of stories\, songs with live musical accom
 paniment by oud musician Ahmed Alejail\, and community - live at KALW's 22
 0 Montgomery events studio.\n\nThrough engaging storytelling\, Hana introd
 uces audiences to magical tales from a rich East African tradition— stor
 ies that build empathy\, curiosity\, and a love for global cultures. Now m
 ore than ever\, hearing stories about different cultures is essential. Fol
 ktales from Sudan makes it fun and exciting through timeless stories that 
 inspire understanding and connection.\n\nThe best way to raise a global ci
 tizen? Start with stories! Folktales from Sudan brings the world to your f
 amily through adventure\, wisdom\, and laughter - plus catchy tunes to sin
 g along to in Sudanese Arabic!\n\nGet Tickets Here \n\n&nbsp\;
ATTACH;FMTTYPE=image/jpeg:https://www.arabamerica.com/wp-content/uploads/2
 025/07/Screenshot-2025-07-08-at-12.47.50-PM.png
CATEGORIES:Arab,Arab American,Community,culture
LOCATION:220 Montgomery Street\, 220 Montgomery St\, San Francisco\, CA\, 9
 4104\, United States
GEO:37.791298;-122.401908
X-APPLE-STRUCTURED-LOCATION;VALUE=URI;X-ADDRESS=220 Montgomery St\, San Fra
 ncisco\, CA\, 94104\, United States;X-APPLE-RADIUS=100;X-TITLE=220 Montgom
 ery Street:geo:37.791298,-122.401908
END:VEVENT
BEGIN:VTIMEZONE
TZID:America/Detroit
X-LIC-LOCATION:America/Detroit
BEGIN:DAYLIGHT
DTSTART:20250309T030000
TZOFFSETFROM:-0500
TZOFFSETTO:-0400
TZNAME:EDT
END:DAYLIGHT
END:VTIMEZONE
END:VCALENDAR