BEGIN:VCALENDAR
VERSION:2.0
PRODID:-//wp-events-plugin.com//7.2.3.1//EN
TZID:America/Detroit
X-WR-TIMEZONE:America/Detroit
BEGIN:VEVENT
UID:34469@arabamerica.com
DTSTART;TZID=America/Detroit:20250724T170000
DTEND;TZID=America/Detroit:20250724T210000
DTSTAMP:20250527T224124Z
URL:https://www.arabamerica.com/events/food-for-all-levant-jazz-food-bank-
 fundraiser/
SUMMARY:Food For All | Levant & Jazz Food Bank Fundraiser
DESCRIPTION:&nbsp\;\n\nUNDERWOOD\, WA\n\n&nbsp\;\n\nAges 21+\n\n&nbsp\;\n\n
 Join us for a night of delicious Levantine cuisine and dynamic jazz music 
 from The Quadraphones to raise funds for the local food bank!\n\n&nbsp\;\n
 \nFood For All | Levant &amp\; Jazz Food Bank Fundraiser\n\nCome join us f
 or a night of delicious Levant cuisine and live jazz performance at AniChe
  Cellars and Support Washington Gorge Action Program's four food banks and
  mobile bank serving Skamania &amp\; Klickitat counties. Your presence wil
 l make a difference in supporting those in need in OUR community. Let's co
 me together for a night of great food\, music\, and giving back!\n\nEvent 
 includes a 5 course meal of Levantine food celebrating Lebanese\, Palestin
 ian\, and Syrian dishes paired with local AniChe wine.\n\nSpecial live per
 formance from Portland's own the Quadraphonnes. An all lady\, all powerhou
 se team of professional saxophonists\, playing in the Portland\, National 
 and Global jazz scene since 2005! This is a rare treat of talent for us li
 ving in the Columbia Gorge and Portland/Vancouver area!\n\nSupport the foo
 d bank by coming together in community for a fantastic evening of food\, w
 ine\, music\, paddle raise and raffle!\n\nGet Tickets Here
ATTACH;FMTTYPE=image/jpeg:https://www.arabamerica.com/wp-content/uploads/2
 025/05/Screenshot-2025-05-27-at-6.40.51-PM.png
LOCATION:AniChe Cellars\, 71 Little Buck Creek Road \, Underwood\, WA\, 986
 51\, United States
GEO:45.741483;-121.555653
X-APPLE-STRUCTURED-LOCATION;VALUE=URI;X-ADDRESS=71 Little Buck Creek Road \
 , Underwood\, WA\, 98651\, United States;X-APPLE-RADIUS=100;X-TITLE=AniChe
  Cellars:geo:45.741483,-121.555653
END:VEVENT
BEGIN:VTIMEZONE
TZID:America/Detroit
X-LIC-LOCATION:America/Detroit
BEGIN:DAYLIGHT
DTSTART:20250309T030000
TZOFFSETFROM:-0500
TZOFFSETTO:-0400
TZNAME:EDT
END:DAYLIGHT
END:VTIMEZONE
END:VCALENDAR