BEGIN:VCALENDAR
VERSION:2.0
PRODID:-//wp-events-plugin.com//7.2.3.1//EN
TZID:America/Detroit
X-WR-TIMEZONE:America/Detroit
BEGIN:VEVENT
UID:33613@arabamerica.com
DTSTART;TZID=America/Detroit:20241214T170000
DTEND;TZID=America/Detroit:20241214T210000
DTSTAMP:20241002T042845Z
URL:https://www.arabamerica.com/events/foods-of-morocco-cu52/
SUMMARY:Foods of Morocco CU52
DESCRIPTION:Sewickley\, PA \n\n\n\nMorocco’s unique history is reflected
  through the vast and diverse flavor profiles in their cuisine. From the B
 erbers\, Arabs\, Moors\, the Ottoman Empire\, and the French\, each of the
 se inhabitants made their impact in Morocco’s cuisine.\n\nThe menu will 
 include:\n\nCous Cous Chicken Tangine Fish Chermoula Zaalouk (Eggplant and
  Tomato dip) Roasted Taktouka\n\n&nbsp\;\n\n\n\n\n\n5:00pm - 9:00pm EST\n\
 n
ATTACH;FMTTYPE=image/jpeg:https://www.arabamerica.com/wp-content/uploads/2
 024/10/d7b2e9ec8e200ca0a2297c17fc281f10.webp
LOCATION:Sweetwater Art Center\, 200 Broad St\, Second Floor\, Sewickley\, 
 PA\, 15143\, United States
GEO:40.536882;-80.183923
X-APPLE-STRUCTURED-LOCATION;VALUE=URI;X-ADDRESS=200 Broad St\, Second Floor
 \, Sewickley\, PA\, 15143\, United States;X-APPLE-RADIUS=100;X-TITLE=Sweet
 water Art Center:geo:40.536882,-80.183923
END:VEVENT
BEGIN:VTIMEZONE
TZID:America/Detroit
X-LIC-LOCATION:America/Detroit
BEGIN:STANDARD
DTSTART:20241103T010000
TZOFFSETFROM:-0400
TZOFFSETTO:-0500
TZNAME:EST
END:STANDARD
END:VTIMEZONE
END:VCALENDAR