BEGIN:VCALENDAR
VERSION:2.0
PRODID:-//wp-events-plugin.com//7.2.3.1//EN
TZID:America/Detroit
X-WR-TIMEZONE:America/Detroit
BEGIN:VEVENT
UID:31515@arabamerica.com
DTSTART;TZID=America/Detroit:20230913T183000
DTEND;TZID=America/Detroit:20230913T200000
DTSTAMP:20230807T180012Z
URL:https://www.arabamerica.com/events/foreign-affairs-discussion-bashar-a
 l-assads-undeserved-rehabilitation-2/
SUMMARY:Foreign Affairs Discussion: Bashar al-Assad’s Undeserved Rehabili
 tation
DESCRIPTION:Over the course of Syria’s 13-year old civil conflict\, Presi
 dent Bashar al-Assad has resorted to torture\, mass slaughter\, and chemic
 al attacks on his own people. Some 500\,000 Syrians have been killed and 1
 8 million are homeless out of a prewar population of 21 million. Even so\,
  Assad was recently welcomed back into the Arab League\, per the national 
 interests of his Arab neighbors. What will this development mean for Syria
 ns and for the region–and how should the US respond? Join us for a lectu
 re and interactive discussion on this critical geopolitical issue
CATEGORIES:#arabic,Discussion,Syria Refugee Crisis,Syrian Politics
LOCATION:Shames JCC on the Hudson\, 371 South Broadway\, Tarrytown\, NY\, 1
 0533\, United States
GEO:41.061646;-73.862812
X-APPLE-STRUCTURED-LOCATION;VALUE=URI;X-ADDRESS=371 South Broadway\, Tarryt
 own\, NY\, 10533\, United States;X-APPLE-RADIUS=100;X-TITLE=Shames JCC on 
 the Hudson:geo:41.061646,-73.862812
END:VEVENT
BEGIN:VTIMEZONE
TZID:America/Detroit
X-LIC-LOCATION:America/Detroit
BEGIN:DAYLIGHT
DTSTART:20230312T030000
TZOFFSETFROM:-0500
TZOFFSETTO:-0400
TZNAME:EDT
END:DAYLIGHT
END:VTIMEZONE
END:VCALENDAR