BEGIN:VCALENDAR
VERSION:2.0
PRODID:-//wp-events-plugin.com//7.2.3.1//EN
TZID:America/Detroit
X-WR-TIMEZONE:America/Detroit
BEGIN:VEVENT
UID:34727@arabamerica.com
DTSTART;TZID=America/Detroit:20250711T210000
DTEND;TZID=America/Detroit:20250712T013000
DTSTAMP:20250707T224100Z
URL:https://www.arabamerica.com/events/forget-me-not/
SUMMARY:Forget Me Not
DESCRIPTION:SEATTLE\, WA\n\n\n\nFORGET ME NOT – A Dance Floor FundraiserJ
 uly 11th | Doors at 9PM | 21+ (bar w ID)Name Your Price / Donation-Based E
 ntry\n\nNo one turned away for lack of funds.\n\nFORGET ME NOT is a dancef
 loor fundraiser dedicated to raising urgent aid for Palestine. All presale
  / RSVP will go directly to verified efforts featured by @fundsforgaza / l
 inktr.ee/fundsforgaza .\n\nFeaturing DJ sets by:LSDFJ · ALDX · MOONBYT3 
 · BUM\n\nvisual installation by DANETTE\n\nBooked by Seattle Tarot Syndic
 ate / @seattle.tarot\n\nAsylum Collective is funded in part by 4Culture @k
 c4culture\n\nMasks available via @maskblocseattle / hard reduction supplie
 s via @kcpubhealth\n\nFree Palestine.
ATTACH;FMTTYPE=image/jpeg:https://www.arabamerica.com/wp-content/uploads/2
 025/07/ff-2.jpg
LOCATION:Asylum Collective\, 108 South Jackson Street B \, Seattle\, Washin
 gton \, 98104\, United States
GEO:47.599343;-122.333858
X-APPLE-STRUCTURED-LOCATION;VALUE=URI;X-ADDRESS=108 South Jackson Street B 
 \, Seattle\, Washington \, 98104\, United States;X-APPLE-RADIUS=100;X-TITL
 E=Asylum Collective:geo:47.599343,-122.333858
END:VEVENT
BEGIN:VTIMEZONE
TZID:America/Detroit
X-LIC-LOCATION:America/Detroit
BEGIN:DAYLIGHT
DTSTART:20250309T030000
TZOFFSETFROM:-0500
TZOFFSETTO:-0400
TZNAME:EDT
END:DAYLIGHT
END:VTIMEZONE
END:VCALENDAR