BEGIN:VCALENDAR
VERSION:2.0
PRODID:-//wp-events-plugin.com//7.2.3.1//EN
TZID:America/Detroit
X-WR-TIMEZONE:America/Detroit
BEGIN:VEVENT
UID:31416@arabamerica.com
DTSTART;TZID=America/Detroit:20230723T100000
DTEND;TZID=America/Detroit:20230723T103000
DTSTAMP:20230719T110651Z
URL:https://www.arabamerica.com/events/forum-why-are-palestinian-christian
 s-disappearing-from-the-holy-land/
SUMMARY:FORUM: Why Are Palestinian Christians Disappearing from the Holy La
 nd?
DESCRIPTION:BEAVERTON\, OR or ONLINE\n\n“Palestinian Christians have been
  disappearing from the Holy Land for decades\, even though this region is 
 where Christianity began. So what’s going on? Dena Takruri goes to Bethl
 ehem to ask the Palestinian Christians who remain.” The Holy Land Minist
 ry will be showing this excellent 10-minute video between services\, follo
 wed by a discussion. Come watch with us whether you are already steeped in
  the movement for justice in Palestine or are new to the situation.\n\n&nb
 sp\;\n\nJOIN US IN PERSON OR ON ZOOM!\nZoom link\nMeeting ID: 170 623 163\
 nPassword: 2gether\nCall in phone #: +1 669 900 9128\nPhone password: 7709
 72
ATTACH;FMTTYPE=image/jpeg:https://www.arabamerica.com/wp-content/uploads/2
 023/07/Screen-Shot-2023-07-19-at-2.04.26-PM.png
CATEGORIES:Arab American,Community,culture,Discussion,Lecture,Religous
LOCATION:Spirit of Grace\, 7400 Southwest Scholls Ferry Road\, Beaverton\, 
 Oregon\, 97008\, United States
GEO:45.466422;-122.776262
X-APPLE-STRUCTURED-LOCATION;VALUE=URI;X-ADDRESS=7400 Southwest Scholls Ferr
 y Road\, Beaverton\, Oregon\, 97008\, United States;X-APPLE-RADIUS=100;X-T
 ITLE=Spirit of Grace:geo:45.466422,-122.776262
END:VEVENT
BEGIN:VTIMEZONE
TZID:America/Detroit
X-LIC-LOCATION:America/Detroit
BEGIN:DAYLIGHT
DTSTART:20230312T030000
TZOFFSETFROM:-0500
TZOFFSETTO:-0400
TZNAME:EDT
END:DAYLIGHT
END:VTIMEZONE
END:VCALENDAR