BEGIN:VCALENDAR
VERSION:2.0
PRODID:-//wp-events-plugin.com//7.2.3.1//EN
TZID:America/Detroit
X-WR-TIMEZONE:America/Detroit
BEGIN:VEVENT
UID:35048@arabamerica.com
DTSTART;TZID=America/Detroit:20250906T100000
DTEND;TZID=America/Detroit:20250906T190000
DTSTAMP:20250830T170631Z
URL:https://www.arabamerica.com/events/fourth-annual-egyptian-day-2025/
SUMMARY:Fourth Annual Egyptian Day 2025
DESCRIPTION:MANHATTAN\, NY\n\n&nbsp\;\n\n&nbsp\;
ATTACH;FMTTYPE=image/jpeg:https://www.arabamerica.com/wp-content/uploads/2
 025/08/unnamed-2.jpeg
LOCATION:50th Street Between 6th Avenue and 7th Avenue\, 50th Street\, Manh
 attan\, NW\, United States
GEO:40.75907;-73.978458
X-APPLE-STRUCTURED-LOCATION;VALUE=URI;X-ADDRESS=50th Street\, Manhattan\, N
 W\, United States;X-APPLE-RADIUS=100;X-TITLE=50th Street Between 6th Avenu
 e and 7th Avenue:geo:40.75907,-73.978458
END:VEVENT
BEGIN:VTIMEZONE
TZID:America/Detroit
X-LIC-LOCATION:America/Detroit
BEGIN:DAYLIGHT
DTSTART:20250309T030000
TZOFFSETFROM:-0500
TZOFFSETTO:-0400
TZNAME:EDT
END:DAYLIGHT
END:VTIMEZONE
END:VCALENDAR