BEGIN:VCALENDAR
VERSION:2.0
PRODID:-//wp-events-plugin.com//7.2.3.1//EN
TZID:America/Detroit
X-WR-TIMEZONE:America/Detroit
BEGIN:VEVENT
UID:33933@arabamerica.com
DTSTART;TZID=America/Detroit:20250125T164500
DTEND;TZID=America/Detroit:20250125T194500
DTSTAMP:20250110T210702Z
URL:https://www.arabamerica.com/events/fr-paul-abernathy-speaks-at-ss-pete
 r-and-paul/
SUMMARY:Fr. Paul Abernathy Speaks at Ss. Peter and Paul
DESCRIPTION:JOIN US for a powerful and inspiring talk by Fr. Paul Abernathy
  who will speak on “Confronting a Slaughter: The Church as a Prophetic V
 oice in Ending Genocide and Apartheid in Palestine”\, after Vespers (5 p
 m) at Ss. Peter and Paul Antiochian Orthodox Church (10620 River Rd\, Poto
 mac\, MD 20854).\nFather Paul Abernathy is an Orthodox Christian priest at
  Saint Moses the Black Orthodox Church in Pittsburgh and the founding CEO 
 of the Neighborhood Resilience Project. A former combat veteran of the Ira
 q War\, with extensive experience in Middle East affairs\, and board membe
 r of Friends of Sabeel North America (FOSNA)\, Fr. Paul works to elevate t
 he indigenous Palestinian Christian voice. He is an author\, and has been 
 featured in national and international media.\nALL ARE WELCOME!\nRegistrat
 ion encouraged: https://dashboard.mailerlite.com/.../14301893756033.../sha
 re\nWe look forward to seeing you there.\nIn solidarity\,  OCP
ATTACH;FMTTYPE=image/jpeg:https://www.arabamerica.com/wp-content/uploads/2
 025/01/Screen-Shot-2025-01-10-at-3.05.18-PM.png
CATEGORIES:#arabic,Arab,Arab Ameircan Event,Arab
 American,Community,culture,Discussion,Food,Lecture
LOCATION:River Rd\, 9460 River Rd\, Potomac\, MD\, 20854-4632\, United Stat
 es
GEO:39.007516;-77.19685
X-APPLE-STRUCTURED-LOCATION;VALUE=URI;X-ADDRESS=9460 River Rd\, Potomac\, M
 D\, 20854-4632\, United States;X-APPLE-RADIUS=100;X-TITLE=River Rd:geo:39.
 007516,-77.19685
END:VEVENT
BEGIN:VTIMEZONE
TZID:America/Detroit
X-LIC-LOCATION:America/Detroit
BEGIN:STANDARD
DTSTART:20241103T010000
TZOFFSETFROM:-0400
TZOFFSETTO:-0500
TZNAME:EST
END:STANDARD
END:VTIMEZONE
END:VCALENDAR