BEGIN:VCALENDAR
VERSION:2.0
PRODID:-//wp-events-plugin.com//7.2.3.1//EN
TZID:America/Detroit
X-WR-TIMEZONE:America/Detroit
BEGIN:VEVENT
UID:35416@arabamerica.com
DTSTART;TZID=America/Detroit:20251203T200000
DTEND;TZID=America/Detroit:20251203T223000
DTSTAMP:20251117T215513Z
URL:https://www.arabamerica.com/events/friendly-strangers-present-omar-by-
 hany-abu-assad-for-gazasroots-2/
SUMMARY:Friendly Strangers present... OMAR by Hany Abu Assad for @gazasroot
 s
DESCRIPTION:\n\nA young Palestinian agrees to work as an informant after he
 's tricked into an admission of guilt by association in the wake of a kill
 ing.\n\n\n\n\nAMPAS MEMBERS • THIS IS ALSO AN FYC SCREENING for the shor
 t film\n\nIM GLAD YOU'RE DEAD NOW\n\nA FILM BY TAWFEEK BARHOM\n\nIf you're
  a member of the Academy or know a member of the academy who lives in Cobb
 le Hill\, come on down on December 3\, 2025 @ 8 PM.\n\nThis will be the la
 st Friendly Strangers Film Screening for the year. All proceeds from this 
 screening of OMAR will be donated to @gazasroots providing food aid to fam
 ilies in Palestine.\n\n\n\n\n\n\n\n\n\n\n\n\n\n
LOCATION:Cobble Hill Cinemas\, 265 Court Street \, Brooklyn \, NY\, United 
 States
GEO:40.684926;-73.994504
X-APPLE-STRUCTURED-LOCATION;VALUE=URI;X-ADDRESS=265 Court Street \, Brookly
 n \, NY\, United States;X-APPLE-RADIUS=100;X-TITLE=Cobble Hill Cinemas:geo
 :40.684926,-73.994504
END:VEVENT
BEGIN:VTIMEZONE
TZID:America/Detroit
X-LIC-LOCATION:America/Detroit
BEGIN:STANDARD
DTSTART:20251102T010000
TZOFFSETFROM:-0400
TZOFFSETTO:-0500
TZNAME:EST
END:STANDARD
END:VTIMEZONE
END:VCALENDAR