BEGIN:VCALENDAR
VERSION:2.0
PRODID:-//wp-events-plugin.com//7.2.3.1//EN
TZID:America/Detroit
X-WR-TIMEZONE:America/Detroit
BEGIN:VEVENT
UID:34635@arabamerica.com
DTSTART;TZID=America/Detroit:20250730T200000
DTEND;TZID=America/Detroit:20250730T220000
DTSTAMP:20250623T145438Z
URL:https://www.arabamerica.com/events/friendly-strangers-presents-q-a-fil
 m-by-jude-chehab-2/
SUMMARY:Friendly Strangers Presents… Q • a film by Jude Chehab
DESCRIPTION:BROOKLYN\, NY\n\nJude Chehab investigates her mother Hiba's adh
 erence to a closed-off\, all-female religious sect in Syria. Chehab examin
 es their relationship. \n\nAll proceeds will benefit a Lebanese Based Org
 anization providing AID to those in Lebanon. Org to be announced soon.\n\n
 [embed]https://youtu.be/lRhm-Jz6ngM[/embed]
ATTACH;FMTTYPE=image/jpeg:https://www.arabamerica.com/wp-content/uploads/2
 025/06/q.jpg
CATEGORIES:Movie
LOCATION:Cobble Hill Cinemas\, 265 Court Street\, Brooklyn\, New York\, 112
 31\, United States
GEO:40.684926;-73.994504
X-APPLE-STRUCTURED-LOCATION;VALUE=URI;X-ADDRESS=265 Court Street\, Brooklyn
 \, New York\, 11231\, United States;X-APPLE-RADIUS=100;X-TITLE=Cobble Hill
  Cinemas:geo:40.684926,-73.994504
END:VEVENT
BEGIN:VTIMEZONE
TZID:America/Detroit
X-LIC-LOCATION:America/Detroit
BEGIN:DAYLIGHT
DTSTART:20250309T030000
TZOFFSETFROM:-0500
TZOFFSETTO:-0400
TZNAME:EDT
END:DAYLIGHT
END:VTIMEZONE
END:VCALENDAR