BEGIN:VCALENDAR
VERSION:2.0
PRODID:-//wp-events-plugin.com//7.2.3.1//EN
TZID:America/Detroit
X-WR-TIMEZONE:America/Detroit
BEGIN:VEVENT
UID:35053@arabamerica.com
DTSTART;TZID=America/Detroit:20251029T200000
DTEND;TZID=America/Detroit:20251029T220000
DTSTAMP:20250901T200947Z
URL:https://www.arabamerica.com/events/friendly-strangers-presents-yalla-p
 arkour-by-areeb-zuaiter/
SUMMARY:Friendly Strangers Presents... YALLA PARKOUR by Areeb Zuaiter
DESCRIPTION:BROOKLYN\, NY\n\n\n\n\n\nAll proceeds for this screening will b
 oth feed families via @gazasroots. We will also be donating to the Arab Gr
 oup for The Protection of Nature. The donation will specifically go to the
 ir Revive Gaza Farmland Project.\n\n&nbsp\;\n\nThis screening will be foll
 owed by a talkback w/ filmmaker Areeb Zuaiter. The talkback will be hosted
  by Laith Zuaiter.\n\n&nbsp\;\n\nIn the documentary Yalla Parkour\, filmma
 ker Areeb revisits Gaza\, a place she first encountered at age 4 with her 
 late mother. After her mother's passing in 2012\, Areeb's nostalgia for he
 r homeland resurfaces when she sees a video of Gaza's young men practicing
  Parkour amid explosions. Reconnecting with Ahmad\, one of the athletes in
  the video\, Areeb embarks on a journey through Gaza's devastated landscap
 e\, exploring both Parkour sites and symbols of Palestinian spirit. As Are
 eb experiences Gaza through Ahmad's eyes\, she confronts the harsh reality
  of the open-air prison Gaza has become\, contrasting it with her own life
  in the US and her mother's legacy. Ahmad's eventual escape to Sweden and 
 his subsequent struggle with separation and bureaucracy highlight the pain
  of diaspora and the longing for home. A decade later\, Ahmad\, now a Swed
 ish citizen and Parkour teacher\, returns to Gaza just before the current 
 disaster strikes\, while Areeb faces the evolving reality of her homeland\
 , uncertain of its future and her place within it.\n\n\n\n\n\n
ATTACH;FMTTYPE=image/jpeg:https://www.arabamerica.com/wp-content/uploads/2
 025/09/YAAA.jpeg
LOCATION:Cobble Hill Cinemas\, 265 Court Street\, Brooklyn\, New York\, 112
 31\, United States
GEO:40.684926;-73.994504
X-APPLE-STRUCTURED-LOCATION;VALUE=URI;X-ADDRESS=265 Court Street\, Brooklyn
 \, New York\, 11231\, United States;X-APPLE-RADIUS=100;X-TITLE=Cobble Hill
  Cinemas:geo:40.684926,-73.994504
END:VEVENT
BEGIN:VTIMEZONE
TZID:America/Detroit
X-LIC-LOCATION:America/Detroit
BEGIN:DAYLIGHT
DTSTART:20250309T030000
TZOFFSETFROM:-0500
TZOFFSETTO:-0400
TZNAME:EDT
END:DAYLIGHT
END:VTIMEZONE
END:VCALENDAR