BEGIN:VCALENDAR
VERSION:2.0
PRODID:-//wp-events-plugin.com//7.2.3.1//EN
TZID:America/Detroit
X-WR-TIMEZONE:America/Detroit
BEGIN:VEVENT
UID:34843@arabamerica.com
DTSTART;TZID=America/Detroit:20250924T160000
DTEND;TZID=America/Detroit:20250924T170000
DTSTAMP:20250730T163146Z
URL:https://www.arabamerica.com/events/from-arab-health-to-whx-dubai-whats
 -new/
SUMMARY:From Arab Health to WHX Dubai: What’s New
DESCRIPTION:Arab Health has evolved. Now reimagined as WHX Dubai\, this is
  no longer just a trade show - it’s a global health innovation summit 
 where the world’s most ambitious companies come to connect\, collaborate
 \, and scale.\n\nJoin ABHI on 24th September to uncover what's new and ho
 w UK healthtech companies can capitalise on this platform for visibility\
 , investment\, and expansion in the Middle East.\n\n&#x1f680\; Why Attend
  This Webinar?\n\nYou’ll discover:\n\n&#x2705\; Why WHX Dubai is a magn
 et for global buyers\, health leaders\, and tech investors\n\n&#x2705\; Ho
 w the UK Pavilion elevates your brand with high-traffic positioning\, cu
 rated networking\, and pitch opportunities\n\n&#x2705\; What support you
 ’ll receive as part of a trusted UK delegation - before\, during\, and
  after the show\n\n&#x2705\; Insights from past UK Pavilion participants\
 n\nWhether you're fundraising\, seeking partnerships\, or entering new mar
 kets\, find out why you should exhibit to the 60\,000+ visitors expected a
 t the largest medical expo in the Middle East.\n\n&#x1f511\; Who Should A
 ttend?\n\n 	CEOs and commercial leads of healthtech SMEs\n\n\n 	Startups p
 reparing for Series A or beyond\n\n\n 	Innovators in AI\, diagnostics\, di
 gital health\, medtech and connected care\n\n\n 	Business development lead
 ers targeting the GCC region\n\nRegister now to find out all about this of
 fer to showcase your solution in Dubai from 9 - 12 February 2026.
ATTACH;FMTTYPE=image/jpeg:https://www.arabamerica.com/wp-content/uploads/2
 025/07/Screenshot-2025-07-30-at-9.30.35-AM.png
END:VEVENT
BEGIN:VTIMEZONE
TZID:America/Detroit
X-LIC-LOCATION:America/Detroit
BEGIN:DAYLIGHT
DTSTART:20250309T030000
TZOFFSETFROM:-0500
TZOFFSETTO:-0400
TZNAME:EDT
END:DAYLIGHT
END:VTIMEZONE
END:VCALENDAR