BEGIN:VCALENDAR
VERSION:2.0
PRODID:-//wp-events-plugin.com//7.2.3.1//EN
TZID:America/Detroit
X-WR-TIMEZONE:America/Detroit
BEGIN:VEVENT
UID:34645@arabamerica.com
DTSTART;TZID=America/Detroit:20250627T190000
DTEND;TZID=America/Detroit:20250627T210000
DTSTAMP:20250624T160307Z
URL:https://www.arabamerica.com/events/from-chicago-to-palestine-mothering
 -is-radical/
SUMMARY:From Chicago to Palestine: Mothering Is Radical!
DESCRIPTION:CHICAGO\, IL\n\nFrom Chicago to Palestine: Mothering Is Radical
 !\n\nChicago! Join MAMAS\, USPCN\, and PFC for Chicago to Palestine: Mothe
 ring is Radical! We will have a conversation on mothering and caregiving b
 ehind colonial violence and prison walls.\n\nThe discussion will feature P
 alestinian Activist Manal Tamimi from Nabi Saleh and Regina Russell and Ap
 ril Ward from the Mothers of the Kidnapped collective\, a Chicago-based gr
 oup within MAMAS who are mothering and caring for survivors of Chicago pol
 ice torture and frame-ups. We will also hear from Nesreen Hasan in the US 
 Palestinian Community Network and members from the Palestinian Feminist Co
 llective.\n\nRegistration is REQUIRED! Childcare provided by ChiChiCo!\n\n
 &#x1f4c6\; June 27\, 2025\n&#x23f0\; 7-9pm\n&#x1f4cd\; Walls Turned Sidewa
 ys\, 2717 W Madison St.
ATTACH;FMTTYPE=image/jpeg:https://www.arabamerica.com/wp-content/uploads/2
 025/06/Screenshot-2025-06-24-at-6.57.25 PM.png
LOCATION:Walls Turned Sideways\, 2717 W Madison St.\, Chicago\, Illinois\, 
 United States
GEO:41.880823;-87.694708
X-APPLE-STRUCTURED-LOCATION;VALUE=URI;X-ADDRESS=2717 W Madison St.\, Chicag
 o\, Illinois\, United States;X-APPLE-RADIUS=100;X-TITLE=Walls Turned Sidew
 ays:geo:41.880823,-87.694708
END:VEVENT
BEGIN:VTIMEZONE
TZID:America/Detroit
X-LIC-LOCATION:America/Detroit
BEGIN:DAYLIGHT
DTSTART:20250309T030000
TZOFFSETFROM:-0500
TZOFFSETTO:-0400
TZNAME:EDT
END:DAYLIGHT
END:VTIMEZONE
END:VCALENDAR