BEGIN:VCALENDAR
VERSION:2.0
PRODID:-//wp-events-plugin.com//7.2.3.1//EN
TZID:America/Detroit
X-WR-TIMEZONE:America/Detroit
BEGIN:VEVENT
UID:36009@arabamerica.com
DTSTART:20260326T220000Z
DTEND:20260326T233000Z
DTSTAMP:20260311T000240Z
URL:https://www.arabamerica.com/events/from-the-river-to-the-sea-to-every-
 mountain-top-solidarity-as-worldmaking/
SUMMARY:From the River to the Sea to Every Mountain Top: Solidarity as Worl
 dmaking
DESCRIPTION:Overview\n\n\n\nFrom analogy to worldmaking: rethinking solidar
 ity across borders.\n\n\n
ATTACH;FMTTYPE=image/jpeg:https://www.arabamerica.com/wp-content/uploads/2
 026/03/image-5.webp
LOCATION:5733 S University Avenue\, 5733 S University Avenue\, First Floor 
 Community Room Chicago\, IL\, 60637\, United States
GEO:41.790447;-87.597593
X-APPLE-STRUCTURED-LOCATION;VALUE=URI;X-ADDRESS=5733 S University Avenue\, 
 First Floor Community Room Chicago\, IL\, 60637\, United States;X-APPLE-RA
 DIUS=100;X-TITLE=5733 S University Avenue:geo:41.790447,-87.597593
END:VEVENT
END:VCALENDAR