BEGIN:VCALENDAR
VERSION:2.0
PRODID:-//wp-events-plugin.com//7.2.3.1//EN
TZID:America/Detroit
X-WR-TIMEZONE:America/Detroit
BEGIN:VEVENT
UID:34617@arabamerica.com
DTSTART;TZID=America/Detroit:20250628T110000
DTEND;TZID=America/Detroit:20250628T160000
DTSTAMP:20250617T223415Z
URL:https://www.arabamerica.com/events/from-turtle-island-to-palestine-2/
SUMMARY:From Turtle Island to Palestine
DESCRIPTION:RICHLAND\, WA\n\nFrom Turtle Island to Palestine\n\nCome join u
 s for an enlightening event at Howard Amon Park where we will celebrate 
 local and Palestinian Indigenous cultures. Join us for this family-friendl
 y event celebrating Indigenous joy from Turtle Island to Palestine\, featu
 ring Native and Palestinian vendors\, drummers and dancers!\n\n11am-1:30pm
  - Learn about local and Palestinian cultures while enjoying a variety of 
 vendors\, booths and activities\, including a raffle drawing!\n\n1:30pm-3p
 m - Watch pow wow and dabke performances and a short presentation about th
 eir cultural significance. Raffle winners announced at the end of the prog
 ram.\n\n3-4pm - A final hour to enjoy the vendor fair!\n\nThis in-person e
 vent promises to be a powerful and educational experience. Don't miss out!
ATTACH;FMTTYPE=image/jpeg:https://www.arabamerica.com/wp-content/uploads/2
 025/06/Screen-Shot-2025-06-17-at-6.34.29-PM.png
LOCATION:Howard Amon Park\, 500 Amon Park Drive \, Richland\, Washington\, 
 99352\, United States
GEO:46.272973;-119.270982
X-APPLE-STRUCTURED-LOCATION;VALUE=URI;X-ADDRESS=500 Amon Park Drive \, Rich
 land\, Washington\, 99352\, United States;X-APPLE-RADIUS=100;X-TITLE=Howar
 d Amon Park:geo:46.272973,-119.270982
END:VEVENT
BEGIN:VTIMEZONE
TZID:America/Detroit
X-LIC-LOCATION:America/Detroit
BEGIN:DAYLIGHT
DTSTART:20250309T030000
TZOFFSETFROM:-0500
TZOFFSETTO:-0400
TZNAME:EDT
END:DAYLIGHT
END:VTIMEZONE
END:VCALENDAR