BEGIN:VCALENDAR
VERSION:2.0
PRODID:-//wp-events-plugin.com//7.2.3.1//EN
TZID:America/Detroit
X-WR-TIMEZONE:America/Detroit
BEGIN:VEVENT
UID:35885@arabamerica.com
DTSTART;TZID=America/Detroit:20260308T113000
DTEND;TZID=America/Detroit:20260308T150000
DTSTAMP:20260217T214107Z
URL:https://www.arabamerica.com/events/from-ukraine-to-palestine-occupatio
 n-is-a-crime/
SUMMARY:FROM UKRAINE TO PALESTINE OCCUPATION IS A CRIME
DESCRIPTION:Boston\, MA\n\n&nbsp\;\n\nWe've witnesssed genocide in Gaza for
  too long as well as ongoing war in Ukraine. Join us at Boston Common\, br
 ing Palestine or Ukraine Flags\n\n\nBring Palestine and/or Ukraine flags a
 nd tell your friends to do the same. This won't be just a rally either but
  it will be a march as well. More details to come as we get closer. Free P
 alestine &#x1f1f5\;&#x1f1f8\; Stop War in Ukraine &#x1f1fa\;&#x1f1e6\;\n\n
 \n&nbsp\;
ATTACH;FMTTYPE=image/jpeg:https://www.arabamerica.com/wp-content/uploads/2
 026/02/image-12-1.webp
CATEGORIES:#arabic,Activity,Advocacy,Arab,Arab
 American,Community,culture,Discussion
LOCATION:Boston Common\, Boston Common\, Boston\, Massachusetts\, 02108\, U
 nited States
GEO:42.3550493;-71.0656252
X-APPLE-STRUCTURED-LOCATION;VALUE=URI;X-ADDRESS=Boston Common\, Boston\, Ma
 ssachusetts\, 02108\, United States;X-APPLE-RADIUS=100;X-TITLE=Boston Comm
 on:geo:42.3550493,-71.0656252
END:VEVENT
BEGIN:VTIMEZONE
TZID:America/Detroit
X-LIC-LOCATION:America/Detroit
BEGIN:DAYLIGHT
DTSTART:20260308T030000
TZOFFSETFROM:-0500
TZOFFSETTO:-0400
TZNAME:EDT
END:DAYLIGHT
END:VTIMEZONE
END:VCALENDAR