BEGIN:VCALENDAR
VERSION:2.0
PRODID:-//wp-events-plugin.com//7.2.3.1//EN
TZID:America/Detroit
X-WR-TIMEZONE:America/Detroit
BEGIN:VEVENT
UID:32210@arabamerica.com
DTSTART;TZID=America/Detroit:20240325T200000
DTEND;TZID=America/Detroit:20240325T220000
DTSTAMP:20240206T042406Z
URL:https://www.arabamerica.com/events/fs-film-series-for-palestine-bye-by
 e-tiberias/
SUMMARY:FS Film Series for Palestine: Bye Bye Tiberias
DESCRIPTION:Brooklyn\, NY. We will be screening Lina Soualem's film\, Bye B
 ye Tiberias and all ticket sales will be benefitting Anera Relief in Pales
 tine.
ATTACH;FMTTYPE=image/jpeg:https://www.arabamerica.com/wp-content/uploads/2
 024/02/https___cdn.evbuc_.com_images_674728289_243744133495_1_original.jpe
 g
CATEGORIES:culture
LOCATION:Cobble Hill Cinemas\, 265 Court Street \, Brooklyn \, NY\, United 
 States
GEO:40.684926;-73.994504
X-APPLE-STRUCTURED-LOCATION;VALUE=URI;X-ADDRESS=265 Court Street \, Brookly
 n \, NY\, United States;X-APPLE-RADIUS=100;X-TITLE=Cobble Hill Cinemas:geo
 :40.684926,-73.994504
END:VEVENT
BEGIN:VTIMEZONE
TZID:America/Detroit
X-LIC-LOCATION:America/Detroit
BEGIN:DAYLIGHT
DTSTART:20240310T030000
TZOFFSETFROM:-0500
TZOFFSETTO:-0400
TZNAME:EDT
END:DAYLIGHT
END:VTIMEZONE
END:VCALENDAR