BEGIN:VCALENDAR
VERSION:2.0
PRODID:-//wp-events-plugin.com//7.2.3.1//EN
TZID:America/Detroit
X-WR-TIMEZONE:America/Detroit
BEGIN:VEVENT
UID:31391@arabamerica.com
DTSTART;TZID=America/Detroit:20230712T160000
DTEND;TZID=America/Detroit:20230712T163000
DTSTAMP:20230712T034608Z
URL:https://www.arabamerica.com/events/fun-with-arabic/
SUMMARY:Fun with Arabic
DESCRIPTION:"Have fun with the Arabic language through engaging hands-on ac
 tivities\, perfect for Arabic and non-Arabic speakers alike! Grades K-2"
ATTACH;FMTTYPE=image/jpeg:https://www.arabamerica.com/wp-content/uploads/2
 023/07/2020-NBL-Exterior.jpg
CATEGORIES:Arab American,Community,culture,Discussion,Music/Folk/World
LOCATION:Naper Blvd. Library\, 2035 S. Naper Blvd.\, Naperville\, IL\, 6056
 5\, United States
GEO:41.729817;-88.11808
X-APPLE-STRUCTURED-LOCATION;VALUE=URI;X-ADDRESS=2035 S. Naper Blvd.\, Naper
 ville\, IL\, 60565\, United States;X-APPLE-RADIUS=100;X-TITLE=Naper Blvd. 
 Library:geo:41.729817,-88.11808
END:VEVENT
BEGIN:VTIMEZONE
TZID:America/Detroit
X-LIC-LOCATION:America/Detroit
BEGIN:DAYLIGHT
DTSTART:20230312T030000
TZOFFSETFROM:-0500
TZOFFSETTO:-0400
TZNAME:EDT
END:DAYLIGHT
END:VTIMEZONE
END:VCALENDAR