BEGIN:VCALENDAR
VERSION:2.0
PRODID:-//wp-events-plugin.com//7.2.3.1//EN
TZID:America/Detroit
X-WR-TIMEZONE:America/Detroit
BEGIN:VEVENT
UID:33425@arabamerica.com
DTSTART;TZID=America/Detroit:20240906T180000
DTEND;TZID=America/Detroit:20240906T180000
DTSTAMP:20240827T190645Z
URL:https://www.arabamerica.com/events/funny-arabs-by-rola-z-2/
SUMMARY:Funny Arabs by Rola Z
DESCRIPTION:\nfeat. Zaid Fouzi\, Mahmoud Jaber\, Marena Riyad\, Falaughful 
 (Ali Majed Aldhalimi)\, Rola Z\, and Elani Nichelle\n\n\n\n\nA Standup Com
 edy Show featuring Arab-American comedians from all over the US.  The sho
 w was created March 2022 in DC and has been featured on NPR\, Dubai TV\, T
 he National\, WUSA9 Open Mic\, DC Fray\, City News Montreal\, City TV\, an
 d Bonne Nuit Pod. Funny Arabs has been hosted at the Kennedy Center and Mo
 ntreal.\n\n
LOCATION:Union Stage\, 740 Water Street SW\, Washington\, DC\, 20024\, Unit
 ed States
GEO:38.8786849;-77.02409569999998
X-APPLE-STRUCTURED-LOCATION;VALUE=URI;X-ADDRESS=740 Water Street SW\, Washi
 ngton\, DC\, 20024\, United States;X-APPLE-RADIUS=100;X-TITLE=Union Stage:
 geo:38.8786849,-77.02409569999998
END:VEVENT
BEGIN:VTIMEZONE
TZID:America/Detroit
X-LIC-LOCATION:America/Detroit
BEGIN:DAYLIGHT
DTSTART:20240310T030000
TZOFFSETFROM:-0500
TZOFFSETTO:-0400
TZNAME:EDT
END:DAYLIGHT
END:VTIMEZONE
END:VCALENDAR