BEGIN:VCALENDAR
VERSION:2.0
PRODID:-//wp-events-plugin.com//7.2.3.1//EN
TZID:America/Detroit
X-WR-TIMEZONE:America/Detroit
BEGIN:VEVENT
UID:32898@arabamerica.com
DTSTART;TZID=America/Detroit:20240531T190000
DTEND;TZID=America/Detroit:20240531T210000
DTSTAMP:20240529T140719Z
URL:https://www.arabamerica.com/events/funny-arabs-show-at-union-stage/
SUMMARY:Funny Arabs Show at Union Stage
DESCRIPTION:WASHINGTON\, DC\n\nPerformers bring you laughter through cerebr
 al comedy\, and include important topics such as the immigrant experience\
 , culture\, displacement\, belonging\, and everyday life! The show is a br
 idge to other cultures and is in English\, and we welcome audiences of all
  backgrounds.\n\n&nbsp\;\n\nComedian Line-up: Yasmin Elhady (Headliner)\, 
 Sami Tamimi\, Mahmoud Jaber\, Rola Z. Guest comedians: Yannick\, Badar Tar
 een.\n\nYasmin Elhady\, our headliner\, has toured all over the US &amp\;
  UK. She has performed at The Kennedy Center\, DC Improv\, and has been fe
 atured on NBC’s True Story with Ed Helms and Randall Park\, now streamin
 g on Peacock. You can catch her Stand-Up comedy on TikTok (100k+ followers
 ) and her comedic skits on IG (@yasminelhahahady). She has also appeared l
 ocally on WUSA9 with Reese Waters\, NPR\, The Washington Post\, and in Vic
 e Media’s book “Little America: Incredible True Stories of Immigrants 
 in America\,” which was later turned into an Apple TV+ series by Kumail 
 Nanjiani. Yasmin was named a 2022 ‘Yes\, And…Laughter Lab’ finalist 
 for Comedy and Social Justice.\nThis edition of Funny Arabs &amp\; Friends
  by Rola Z is sponsored by: The American-Arab Anti-Discrimination Committe
 e (ADC).
ATTACH;FMTTYPE=image/jpeg:https://www.arabamerica.com/wp-content/uploads/2
 024/05/Screenshot-2024-05-29-at-10.03.39-AM.png
CATEGORIES:#comedy_show,Arab American,Community,culture
LOCATION:14th & V\, 2021 14th St NW\, WASHINGTON\, DC\, 20009\, United Stat
 es
GEO:38.917657;-77.031621
X-APPLE-STRUCTURED-LOCATION;VALUE=URI;X-ADDRESS=2021 14th St NW\, WASHINGTO
 N\, DC\, 20009\, United States;X-APPLE-RADIUS=100;X-TITLE=14th & V:geo:38.
 917657,-77.031621
END:VEVENT
BEGIN:VTIMEZONE
TZID:America/Detroit
X-LIC-LOCATION:America/Detroit
BEGIN:DAYLIGHT
DTSTART:20240310T030000
TZOFFSETFROM:-0500
TZOFFSETTO:-0400
TZNAME:EDT
END:DAYLIGHT
END:VTIMEZONE
END:VCALENDAR