BEGIN:VCALENDAR
VERSION:2.0
PRODID:-//wp-events-plugin.com//7.2.3.1//EN
TZID:America/Detroit
X-WR-TIMEZONE:America/Detroit
BEGIN:VEVENT
UID:35131@arabamerica.com
DTSTART;TZID=America/New_York:20251004T170000
DTEND;TZID=America/New_York:20251004T170000
DTSTAMP:20250917T022852Z
URL:https://www.arabamerica.com/events/gala-for-gaza-critical-convos-3/
SUMMARY:Gala for Gaza: Critical Convos
DESCRIPTION:PATERSON\, NJ\n\nJoin us for a powerful evening of truth\, refl
 ection\, and action at the Gala for Gaza: Critical Convos. This benefit d
 inner will feature thought-provoking talks and moving performances that sh
 ed light on the realities of Gaza\, while raising vital support for those 
 impacted.\n\nOur distinguished speakers and performers include:\n\n 	Dr. N
 orman Finkelstein – Renowned scholar and author\n 	Sami Hamdi – Inte
 rnational political analyst\n 	Amal Kassir – Spoken word poet and activ
 ist\n 	Ammar Charaf – Nasheed artist\n 	A firsthand account from a sp
 eaker with lived experiences in Gaza\n\nTogether\, they will share critica
 l perspectives and heartfelt messages to inspire awareness\, compassion\, 
 and collective action.\n\nHosted at ICPC Paterson\, this event is more th
 an a dinner—it’s a gathering of conscience\, community\, and commitmen
 t to justice.\n\nEvent Details:&#x1f4c5\; Date: Saturday\, October 4\, 2
 025&#x1f555\; Time: 5:00 PM&#x1f4cd\; Venue: ICPC Paterson\, 152 Derro
 m Ave\, Paterson\, NJ 07504&#x1f39f\; Tickets: $50 per individual | $450
  for a table of 10&#x1f37d\; Dinner included\n\nWhy Attend?\n\n 	Hear fro
 m world-renowned voices on Gaza and justice\n 	Experience powerful spoken 
 word and nasheed performances\n 	Stand in solidarity with the people of Ga
 za\n 	Contribute directly to humanitarian support through this benefit din
 ner\n\nSeats are limited—reserve yours today and be part of this critica
 l conversation.
LOCATION:ICPC Paterson\, 152 Derrom Avenue\, Paterson\, NJ\, 07504\, United
  States
GEO:40.917719;-74.140246
X-APPLE-STRUCTURED-LOCATION;VALUE=URI;X-ADDRESS=152 Derrom Avenue\, Paterso
 n\, NJ\, 07504\, United States;X-APPLE-RADIUS=100;X-TITLE=ICPC Paterson:ge
 o:40.917719,-74.140246
END:VEVENT
BEGIN:VTIMEZONE
TZID:America/New_York
X-LIC-LOCATION:America/New_York
BEGIN:DAYLIGHT
DTSTART:20250309T030000
TZOFFSETFROM:-0500
TZOFFSETTO:-0400
TZNAME:EDT
END:DAYLIGHT
END:VTIMEZONE
END:VCALENDAR