BEGIN:VCALENDAR
VERSION:2.0
PRODID:-//wp-events-plugin.com//7.2.3.1//EN
TZID:America/Detroit
X-WR-TIMEZONE:America/Detroit
BEGIN:VEVENT
UID:35132@arabamerica.com
DTSTART;TZID=America/New_York;VALUE=DATE:20251107
DTEND;TZID=America/New_York;VALUE=DATE:20251110
DTSTAMP:20250917T023318Z
URL:https://www.arabamerica.com/events/gallery-for-gaza-2/
SUMMARY:Gallery For Gaza
DESCRIPTION:PHILADELPHIA\, PA\n\nJoin us at Gallery For Gaza to support loc
 al artists and raise funds for a great cause - art\, music\, and community
  coming together!
LOCATION:Hall Pass\, 319 North 11th Street \, Philadelphia\, Pennsylvania \
 , 19107\, United States
GEO:39.958289;-75.15659
X-APPLE-STRUCTURED-LOCATION;VALUE=URI;X-ADDRESS=319 North 11th Street \, Ph
 iladelphia\, Pennsylvania \, 19107\, United States;X-APPLE-RADIUS=100;X-TI
 TLE=Hall Pass:geo:39.958289,-75.15659
END:VEVENT
BEGIN:VTIMEZONE
TZID:America/New_York
X-LIC-LOCATION:America/New_York
BEGIN:STANDARD
DTSTART:20251102T010000
TZOFFSETFROM:-0400
TZOFFSETTO:-0500
TZNAME:EST
END:STANDARD
END:VTIMEZONE
END:VCALENDAR