BEGIN:VCALENDAR
VERSION:2.0
PRODID:-//wp-events-plugin.com//7.2.3.1//EN
TZID:America/Detroit
X-WR-TIMEZONE:America/Detroit
BEGIN:VEVENT
UID:34347@arabamerica.com
DTSTART;TZID=America/Detroit:20250427T160000
DTEND;TZID=America/Detroit:20250427T180000
DTSTAMP:20250424T194547Z
URL:https://www.arabamerica.com/events/gateways-to-wisdom-suficorner/
SUMMARY:Gateways to Wisdom - SufiCorner
DESCRIPTION:NEW YORK\, NY\n\nWe are excited to announce a special lecture w
 ith Dr. Mohammed Rustom at SufiCorner NY and Online over Zoom!\n\nJoi
 n us on April 27th from 4–6 PM at Madison Park Tower\, NYC\, in pers
 on or online lecture via Zoom Meeting\, for Gateway to Wisdom—a unique
  journey into the depths of Sufi wisdom literature. In this lecture\, Dr. 
 Rustom will guide us through the vast ocean of Sufi texts\, resurfacing w
 ith timeless pearls of insight and exploring their enduring relevance fo
 r our lives today.\n\nThis is a rare opportunity to engage with the heart 
 of Sufi thought\, reflect on its profound teachings\, alongside Sufi Music
 \, and deepen your spiritual understanding in today’s world.\n\n&#x1f4c5
 \; Date: Sunday\, April 27th\, 2025\n&#x1f552\; Time: 4–6 PM\n&#x1f4
 cd\; InPerson: Madison Park Tower\, NYC | 45 E 22nd St\, New York\, NY 1
 0010\n&#x1f4cd\; Online: Live Zoom Meeting (with Q&amp\;A session)\n\nLi
 ght refreshments and drinks will be served.\nRSVP is a must. Free for memb
 ers. To become a member before registration\, please visit here.
ATTACH;FMTTYPE=image/jpeg:https://www.arabamerica.com/wp-content/uploads/2
 025/04/Screenshot-2025-04-24-124402.jpg
CATEGORIES:Lecture
LOCATION:Madison Square Park Tower\, 45 E 22nd St.\, New York\, NY\, 10010\
 , United States
GEO:40.740002;-73.987278
X-APPLE-STRUCTURED-LOCATION;VALUE=URI;X-ADDRESS=45 E 22nd St.\, New York\, 
 NY\, 10010\, United States;X-APPLE-RADIUS=100;X-TITLE=Madison Square Park 
 Tower:geo:40.740002,-73.987278
END:VEVENT
BEGIN:VTIMEZONE
TZID:America/Detroit
X-LIC-LOCATION:America/Detroit
BEGIN:DAYLIGHT
DTSTART:20250309T030000
TZOFFSETFROM:-0500
TZOFFSETTO:-0400
TZNAME:EDT
END:DAYLIGHT
END:VTIMEZONE
END:VCALENDAR