BEGIN:VCALENDAR
VERSION:2.0
PRODID:-//wp-events-plugin.com//7.2.3.1//EN
TZID:America/Detroit
X-WR-TIMEZONE:America/Detroit
BEGIN:VEVENT
UID:35653@arabamerica.com
DTSTART;TZID=America/Detroit:20260131T140000
DTEND;TZID=America/Detroit:20260131T170000
DTSTAMP:20260106T161509Z
URL:https://www.arabamerica.com/events/gather-for-gaza-art-music-solidarit
 y-for-refugee-relief-2/
SUMMARY:Gather for Gaza: Art\, Music\, & Solidarity for Refugee Relief
DESCRIPTION:MINNEAPOLIS\, MN\n\nArt\, music\, and community celebrating Pal
 estinian resilience while gathering in solidarity to support humanitarian 
 relief.\n\n\n\n\nGather for Gaza: Art\, Music\, &amp\; Solidarity for Refu
 gee Relief is a community-centered afternoon of art\, music\, food\, and 
 fellowship\, bringing people together in solidarity with the people of Gaz
 a.\n\nWhat to expect:\n\n 	&#x1f3b6\; Live music performances\n 	&#x270d\;
 &#xfe0f\; Spoken-word poetry\n 	&#x1f483\; Dance performances\n 	&#x1f3b5\
 ; Group and community singing\n 	&#x1f91d\; Space for connection\, reflect
 ion\, and solidarity\n 	&#x1f5bc\;&#xfe0f\; Local arts and crafts\n\nThe e
 vent is free and open to all. While there is no cost to attend\, guests wi
 ll have the opportunity to make optional donations in support of HOPE Foun
 dation's emergency winter campaign for Gaza.\n\nYou can learn more about H
 OPE Foundation's campaign here:\n\nhttps://givebutter.com/HOPEFOUNDPAL\n\n
 Come as you are. Bring friends\, family\, and neighbors\, and join us in c
 elebrating culture\, resilience\, and the power of community to make a dif
 ference.\n\nREGISTER HERE\n\n\n
ATTACH;FMTTYPE=image/jpeg:https://www.arabamerica.com/wp-content/uploads/2
 026/01/Screenshot-2026-01-06-at-11.16.19-AM.png
LOCATION:3104 16th Ave S\, 3104 16th Ave S\, Minneapolis\, MN\, 55407\, Uni
 ted States
GEO:44.946358;-93.251538
X-APPLE-STRUCTURED-LOCATION;VALUE=URI;X-ADDRESS=3104 16th Ave S\, Minneapol
 is\, MN\, 55407\, United States;X-APPLE-RADIUS=100;X-TITLE=3104 16th Ave S
 :geo:44.946358,-93.251538
END:VEVENT
BEGIN:VTIMEZONE
TZID:America/Detroit
X-LIC-LOCATION:America/Detroit
BEGIN:STANDARD
DTSTART:20251102T010000
TZOFFSETFROM:-0400
TZOFFSETTO:-0500
TZNAME:EST
END:STANDARD
END:VTIMEZONE
END:VCALENDAR