BEGIN:VCALENDAR
VERSION:2.0
PRODID:-//wp-events-plugin.com//7.2.3.1//EN
TZID:America/Detroit
X-WR-TIMEZONE:America/Detroit
BEGIN:VEVENT
UID:36126@arabamerica.com
DTSTART;TZID=America/New_York:20260414T180000
DTEND;TZID=America/New_York:20260414T220000
DTSTAMP:20260401T010601Z
URL:https://www.arabamerica.com/events/gathering-for-a-new-lebanon/
SUMMARY:Gathering for a New Lebanon
DESCRIPTION:\n\n\nJoin ALEF’s Gathering for a New Lebanon! Unite for an e
 vening of dialogue\, vision &amp\; action toward a free sovereign Lebanon.
  April 14 • 6PM\n\n\n\n\n\nJoin Us for Gathering for a New Lebanon!\nJoi
 n us for an historic evening of unity\, vision\, and action as we celebrat
 e the dawn of a renewed fight for Lebanon's future.\n\nThe American Lebano
 n Education Foundation (ALEF) proudly hosts this prestigious Inauguration 
 Celebration\, a gathering of patriots\, leaders\, philanthropists\, and fr
 iends of freedom dedicated to defining the path forward for 2026 and beyon
 d.\n\nWhat you can expect when you attend:\n\n• 6:00 PM Reception follow
 ed by an 8:00 PM Dinner\n\n• Inspiring keynote remarks and strategic dis
 cussions on Lebanon’s sovereignty\, reconstruction\, security\, institut
 ions\, and economic recovery\n\n• Presentation of the ALEF Brief and our
  bold 5-pillar Action-Driven Agenda for a free\, sovereign\, and prosperou
 s Lebanon\n\n• High-level networking with influential Lebanese-American 
 professionals\, policymakers\, activists\, and diaspora leaders\n\n• A p
 owerful reaffirmation of our shared vision: a merit-based\, transparent\, 
 self-reliant Lebanon free from corruption and militant influence\n\n• Me
 aningful opportunities to connect\, support\, and fuel ALEF’s advocacy i
 n Washington\, the media\, and on the global stage\n\nThis exclusive eveni
 ng is more than a gathering\, it is a launchpad for real change. Your pres
 ence sends a resounding message: Lebanon will rise again strong\, independ
 ent\, and prosperous.\n\nEvent Details:\n\nDate &amp\; Time: Tuesday\, Apr
 il 14\, 2026 | 6:00 PM Reception | 8:00 PM Dinner\n\nLocation: 3 West Club
 \, 3 West 51st Street\, New York\, NY 10019\n\nAttire: Business formal / c
 ocktail\n\nFor full event details\, official agenda\, sponsorship opportun
 ities\, and updates\, visit the ALEF event page: https://www.usalef.org/ev
 ents\n\nProceeds directly support ALEF’s ongoing advocacy\, education\, 
 and policy efforts to expose corruption\, combat Hezbollah’s grip\, rest
 ore ethical governance\, and build a thriving Lebanon.\n\nLimited seats av
 ailable. Every ticket strengthens our collective voice.\n\nGod bless Leban
 on. God bless the United States.\n\nJoin the movement. Secure your place t
 oday!\n\n\n\n\n\n\n\n
ATTACH;FMTTYPE=image/jpeg:https://www.arabamerica.com/wp-content/uploads/2
 026/03/LEBA.webp
LOCATION:3 West Club\, 3 West 51st Street\, New York\, NY\, 10019\, United 
 States
GEO:40.759675;-73.97731
X-APPLE-STRUCTURED-LOCATION;VALUE=URI;X-ADDRESS=3 West 51st Street\, New Yo
 rk\, NY\, 10019\, United States;X-APPLE-RADIUS=100;X-TITLE=3 West Club:geo
 :40.759675,-73.97731
END:VEVENT
BEGIN:VTIMEZONE
TZID:America/New_York
X-LIC-LOCATION:America/New_York
BEGIN:DAYLIGHT
DTSTART:20260308T030000
TZOFFSETFROM:-0500
TZOFFSETTO:-0400
TZNAME:EDT
END:DAYLIGHT
END:VTIMEZONE
END:VCALENDAR